BEGIN:VCALENDAR
VERSION:2.0
PRODID:-//Conservation Club of Kenosha County - ECPv6.15.15//NONSGML v1.0//EN
CALSCALE:GREGORIAN
METHOD:PUBLISH
X-WR-CALNAME:Conservation Club of Kenosha County
X-ORIGINAL-URL:https://bristolranges.com
X-WR-CALDESC:Events for Conservation Club of Kenosha County
REFRESH-INTERVAL;VALUE=DURATION:PT1H
X-Robots-Tag:noindex
X-PUBLISHED-TTL:PT1H
BEGIN:VTIMEZONE
TZID:America/Chicago
BEGIN:DAYLIGHT
TZOFFSETFROM:-0600
TZOFFSETTO:-0500
TZNAME:CDT
DTSTART:20250309T080000
END:DAYLIGHT
BEGIN:STANDARD
TZOFFSETFROM:-0500
TZOFFSETTO:-0600
TZNAME:CST
DTSTART:20251102T070000
END:STANDARD
BEGIN:DAYLIGHT
TZOFFSETFROM:-0600
TZOFFSETTO:-0500
TZNAME:CDT
DTSTART:20260308T080000
END:DAYLIGHT
BEGIN:STANDARD
TZOFFSETFROM:-0500
TZOFFSETTO:-0600
TZNAME:CST
DTSTART:20261101T070000
END:STANDARD
BEGIN:DAYLIGHT
TZOFFSETFROM:-0600
TZOFFSETTO:-0500
TZNAME:CDT
DTSTART:20270314T080000
END:DAYLIGHT
BEGIN:STANDARD
TZOFFSETFROM:-0500
TZOFFSETTO:-0600
TZNAME:CST
DTSTART:20271107T070000
END:STANDARD
END:VTIMEZONE
BEGIN:VEVENT
DTSTART;TZID=America/Chicago:20260426T080000
DTEND;TZID=America/Chicago:20260426T170000
DTSTAMP:20260423T031200
CREATED:20260112T144931Z
LAST-MODIFIED:20260112T151944Z
UID:10000265-1777190400-1777222800@bristolranges.com
SUMMARY:NRA High Power Rifle Matches April 26 2026
DESCRIPTION:NRA approved. NRA rules apply and match scores are submitted to the NRA. \n\n\n\n200 yards\, 52 Rounds\, 4 stages / 3 positions (any rifle\, any sights) \n\n\n\nScores will be grouped by rifle style (service I match) & sight type (iron/ glass) \n\n\n\nMatch Fees: Adults $20.00\, Juniors: $10.00
URL:https://bristolranges.com/event/nra-high-power-rifle-matches-april-26-2026/
LOCATION:CCKC Rifle Range\, 21001 85th St\, Bristol\, WI\, 53104\, United States
CATEGORIES:High Power Rifle
ATTACH;FMTTYPE=image/jpeg:https://bristolranges.com/wp-content/uploads/2024/03/Rifle-range-High-Power-2_crop.jpg
END:VEVENT
BEGIN:VEVENT
DTSTART;TZID=America/Chicago:20260503T080000
DTEND;TZID=America/Chicago:20260503T170000
DTSTAMP:20260423T031200
CREATED:20260112T145033Z
LAST-MODIFIED:20260112T152245Z
UID:10000266-1777795200-1777827600@bristolranges.com
SUMMARY:NRA High Power Rifle Matches May 3 2026
DESCRIPTION:NRA approved. NRA rules apply and match scores are submitted to the NRA. \n\n\n\n200 yards\, 52 Rounds\, 4 stages / 3 positions (any rifle\, any sights) \n\n\n\nScores will be grouped by rifle style (service I match) & sight type (iron/ glass) \n\n\n\nMatch Fees: Adults $20.00\, Juniors: $10.00
URL:https://bristolranges.com/event/nra-high-power-rifle-matches-may-3-2026/
LOCATION:CCKC Rifle Range\, 21001 85th St\, Bristol\, WI\, 53104\, United States
CATEGORIES:High Power Rifle
ATTACH;FMTTYPE=image/jpeg:https://bristolranges.com/wp-content/uploads/2024/03/Rifle-range-High-Power-2_crop.jpg
END:VEVENT
BEGIN:VEVENT
DTSTART;TZID=America/Chicago:20260509T080000
DTEND;TZID=America/Chicago:20260509T170000
DTSTAMP:20260423T031200
CREATED:20260112T153251Z
LAST-MODIFIED:20260112T153253Z
UID:10000277-1778313600-1778346000@bristolranges.com
SUMMARY:Mini-Palma Matches (.22 Rimfire Only) May 2026
DESCRIPTION:This is a fun match and is not NRA or CMP sanctioned. \n\n\n\nHowever\, NRA rules apply. 100 yards\, prone\, slow fire and 45 rounds for record. \n\n\n\nScores will be grouped by sight type (iron or glass). \n\n\n\nMatch Fees: Adults $15.00\, Juniors: $5.00
URL:https://bristolranges.com/event/mini-palma-matches-22-rimfire-only-may-2026/
LOCATION:CCKC Rifle Range\, 21001 85th St\, Bristol\, WI\, 53104\, United States
CATEGORIES:High Power Rifle
ATTACH;FMTTYPE=image/jpeg:https://bristolranges.com/wp-content/uploads/2024/03/Rifle-range-High-Power-2_crop.jpg
END:VEVENT
BEGIN:VEVENT
DTSTART;TZID=America/Chicago:20260517T080000
DTEND;TZID=America/Chicago:20260517T170000
DTSTAMP:20260423T031200
CREATED:20260112T151558Z
LAST-MODIFIED:20260112T153602Z
UID:10000276-1779004800-1779037200@bristolranges.com
SUMMARY:Garand Rifle Matches
DESCRIPTION:This is a fun match and is not NRA or CMP sanctioned \n\n\n\nNRA rules apply. 200 yards\, 52 rounds\, 4 Stages and 3 positions. \n\n\n\nMatch Fees: Adults $15.00\, Juniors: $5.00
URL:https://bristolranges.com/event/garand-rifle-matches-3/
LOCATION:CCKC Rifle Range\, 21001 85th St\, Bristol\, WI\, 53104\, United States
CATEGORIES:High Power Rifle
ATTACH;FMTTYPE=image/jpeg:https://bristolranges.com/wp-content/uploads/2024/03/Rifle-range-High-Power-2_crop.jpg
END:VEVENT
BEGIN:VEVENT
DTSTART;TZID=America/Chicago:20260531T080000
DTEND;TZID=America/Chicago:20260531T170000
DTSTAMP:20260423T031200
CREATED:20260112T145242Z
LAST-MODIFIED:20260112T152325Z
UID:10000267-1780214400-1780246800@bristolranges.com
SUMMARY:NRA High Power Rifle Matches May 31 2026
DESCRIPTION:NRA approved. NRA rules apply and match scores are submitted to the NRA. \n\n\n\n200 yards\, 52 Rounds\, 4 stages / 3 positions (any rifle\, any sights) \n\n\n\nScores will be grouped by rifle style (service I match) & sight type (iron/ glass) \n\n\n\nMatch Fees: Adults $20.00\, Juniors: $10.00
URL:https://bristolranges.com/event/nra-high-power-rifle-matches-may-31-2026/
LOCATION:CCKC Rifle Range\, 21001 85th St\, Bristol\, WI\, 53104\, United States
CATEGORIES:High Power Rifle
ATTACH;FMTTYPE=image/jpeg:https://bristolranges.com/wp-content/uploads/2024/03/Rifle-range-High-Power-2_crop.jpg
END:VEVENT
BEGIN:VEVENT
DTSTART;TZID=America/Chicago:20260607T080000
DTEND;TZID=America/Chicago:20260607T170000
DTSTAMP:20260423T031200
CREATED:20260112T145345Z
LAST-MODIFIED:20260112T152329Z
UID:10000268-1780819200-1780851600@bristolranges.com
SUMMARY:NRA High Power Rifle Matches June 7 2026
DESCRIPTION:NRA approved. NRA rules apply and match scores are submitted to the NRA. \n\n\n\n200 yards\, 52 Rounds\, 4 stages / 3 positions (any rifle\, any sights) \n\n\n\nScores will be grouped by rifle style (service I match) & sight type (iron/ glass) \n\n\n\nMatch Fees: Adults $20.00\, Juniors: $10.00
URL:https://bristolranges.com/event/nra-high-power-rifle-matches-june-7-2026/
LOCATION:CCKC Rifle Range\, 21001 85th St\, Bristol\, WI\, 53104\, United States
CATEGORIES:High Power Rifle
ATTACH;FMTTYPE=image/jpeg:https://bristolranges.com/wp-content/uploads/2024/03/Rifle-range-High-Power-2_crop.jpg
END:VEVENT
BEGIN:VEVENT
DTSTART;TZID=America/Chicago:20260614T080000
DTEND;TZID=America/Chicago:20260614T170000
DTSTAMP:20260423T031200
CREATED:20260112T153411Z
LAST-MODIFIED:20260112T153414Z
UID:10000278-1781424000-1781456400@bristolranges.com
SUMMARY:Mini-Palma Matches (.22 Rimfire Only) June 2026
DESCRIPTION:This is a fun match and is not NRA or CMP sanctioned. \n\n\n\nHowever\, NRA rules apply. 100 yards\, prone\, slow fire and 45 rounds for record. \n\n\n\nScores will be grouped by sight type (iron or glass). \n\n\n\nMatch Fees: Adults $15.00\, Juniors: $5.00
URL:https://bristolranges.com/event/mini-palma-matches-22-rimfire-only-june-2026/
LOCATION:CCKC Rifle Range\, 21001 85th St\, Bristol\, WI\, 53104\, United States
CATEGORIES:High Power Rifle
ATTACH;FMTTYPE=image/jpeg:https://bristolranges.com/wp-content/uploads/2024/03/Rifle-range-High-Power-2_crop.jpg
END:VEVENT
BEGIN:VEVENT
DTSTART;TZID=America/Chicago:20260628T080000
DTEND;TZID=America/Chicago:20260628T170000
DTSTAMP:20260423T031200
CREATED:20260112T145424Z
LAST-MODIFIED:20260112T152333Z
UID:10000269-1782633600-1782666000@bristolranges.com
SUMMARY:NRA High Power Rifle Matches June 28 2026
DESCRIPTION:NRA approved. NRA rules apply and match scores are submitted to the NRA. \n\n\n\n200 yards\, 52 Rounds\, 4 stages / 3 positions (any rifle\, any sights) \n\n\n\nScores will be grouped by rifle style (service I match) & sight type (iron/ glass) \n\n\n\nMatch Fees: Adults $20.00\, Juniors: $10.00
URL:https://bristolranges.com/event/nra-high-power-rifle-matches-june-28-2026/
LOCATION:CCKC Rifle Range\, 21001 85th St\, Bristol\, WI\, 53104\, United States
CATEGORIES:High Power Rifle
ATTACH;FMTTYPE=image/jpeg:https://bristolranges.com/wp-content/uploads/2024/03/Rifle-range-High-Power-2_crop.jpg
END:VEVENT
BEGIN:VEVENT
DTSTART;TZID=America/Chicago:20260712T080000
DTEND;TZID=America/Chicago:20260712T170000
DTSTAMP:20260423T031200
CREATED:20260112T145517Z
LAST-MODIFIED:20260112T152336Z
UID:10000270-1783843200-1783875600@bristolranges.com
SUMMARY:NRA High Power Rifle Matches July 12 2026
DESCRIPTION:NRA approved. NRA rules apply and match scores are submitted to the NRA. \n\n\n\n200 yards\, 52 Rounds\, 4 stages / 3 positions (any rifle\, any sights) \n\n\n\nScores will be grouped by rifle style (service I match) & sight type (iron/ glass) \n\n\n\nMatch Fees: Adults $20.00\, Juniors: $10.00
URL:https://bristolranges.com/event/nra-high-power-rifle-matches-july-12-2026/
LOCATION:CCKC Rifle Range\, 21001 85th St\, Bristol\, WI\, 53104\, United States
CATEGORIES:High Power Rifle
ATTACH;FMTTYPE=image/jpeg:https://bristolranges.com/wp-content/uploads/2024/03/Rifle-range-High-Power-2_crop.jpg
END:VEVENT
BEGIN:VEVENT
DTSTART;TZID=America/Chicago:20260802T080000
DTEND;TZID=America/Chicago:20260802T170000
DTSTAMP:20260423T031200
CREATED:20260112T145653Z
LAST-MODIFIED:20260112T152340Z
UID:10000271-1785657600-1785690000@bristolranges.com
SUMMARY:NRA High Power Rifle Matches August 2 2026
DESCRIPTION:NRA approved. NRA rules apply and match scores are submitted to the NRA. \n\n\n\n200 yards\, 52 Rounds\, 4 stages / 3 positions (any rifle\, any sights) \n\n\n\nScores will be grouped by rifle style (service I match) & sight type (iron/ glass) \n\n\n\nMatch Fees: Adults $20.00\, Juniors: $10.00
URL:https://bristolranges.com/event/nra-high-power-rifle-matches-august-2-2026/
LOCATION:CCKC Rifle Range\, 21001 85th St\, Bristol\, WI\, 53104\, United States
CATEGORIES:High Power Rifle
ATTACH;FMTTYPE=image/jpeg:https://bristolranges.com/wp-content/uploads/2024/03/Rifle-range-High-Power-2_crop.jpg
END:VEVENT
BEGIN:VEVENT
DTSTART;TZID=America/Chicago:20260815T080000
DTEND;TZID=America/Chicago:20260815T170000
DTSTAMP:20260423T031200
CREATED:20260112T153940Z
LAST-MODIFIED:20260112T153943Z
UID:10000279-1786780800-1786813200@bristolranges.com
SUMMARY:Vintage Sniper Match 2026
DESCRIPTION:Military sniper rifles up to the Korean War. This is a fun match and is not NRA or CMP sanctioned \n\n\n\nNRA rules apply. \n\n\n\nThree stages (200\, 300 and 600 yds) with reduced targets. 40 rounds for record\, 2 optional sighter shots. \n\n\n\nMatch Fees: Adults $15.00\, Juniors $5.00
URL:https://bristolranges.com/event/vintage-sniper-match-2026/
LOCATION:CCKC Rifle Range\, 21001 85th St\, Bristol\, WI\, 53104\, United States
CATEGORIES:High Power Rifle
ATTACH;FMTTYPE=image/jpeg:https://bristolranges.com/wp-content/uploads/2024/03/Rifle-range-High-Power-2_crop.jpg
END:VEVENT
BEGIN:VEVENT
DTSTART;TZID=America/Chicago:20260823T080000
DTEND;TZID=America/Chicago:20260823T170000
DTSTAMP:20260423T031200
CREATED:20260112T145736Z
LAST-MODIFIED:20260112T152345Z
UID:10000272-1787472000-1787504400@bristolranges.com
SUMMARY:NRA High Power Rifle Matches August 23 2026
DESCRIPTION:NRA approved. NRA rules apply and match scores are submitted to the NRA. \n\n\n\n200 yards\, 52 Rounds\, 4 stages / 3 positions (any rifle\, any sights) \n\n\n\nScores will be grouped by rifle style (service I match) & sight type (iron/ glass) \n\n\n\nMatch Fees: Adults $20.00\, Juniors: $10.00
URL:https://bristolranges.com/event/nra-high-power-rifle-matches-august-23-2026/
LOCATION:CCKC Rifle Range\, 21001 85th St\, Bristol\, WI\, 53104\, United States
CATEGORIES:High Power Rifle
ATTACH;FMTTYPE=image/jpeg:https://bristolranges.com/wp-content/uploads/2024/03/Rifle-range-High-Power-2_crop.jpg
END:VEVENT
BEGIN:VEVENT
DTSTART;TZID=America/Chicago:20260913T080000
DTEND;TZID=America/Chicago:20260913T170000
DTSTAMP:20260423T031200
CREATED:20260112T150829Z
LAST-MODIFIED:20260112T152351Z
UID:10000273-1789286400-1789318800@bristolranges.com
SUMMARY:NRA High Power Rifle Matches September 13 2026
DESCRIPTION:NRA approved. NRA rules apply and match scores are submitted to the NRA. \n\n\n\n200 yards\, 52 Rounds\, 4 stages / 3 positions (any rifle\, any sights) \n\n\n\nScores will be grouped by rifle style (service I match) & sight type (iron/ glass) \n\n\n\nMatch Fees: Adults $20.00\, Juniors: $10.00
URL:https://bristolranges.com/event/nra-high-power-rifle-matches-september-13-2026/
LOCATION:CCKC Rifle Range\, 21001 85th St\, Bristol\, WI\, 53104\, United States
CATEGORIES:High Power Rifle
ATTACH;FMTTYPE=image/jpeg:https://bristolranges.com/wp-content/uploads/2024/03/Rifle-range-High-Power-2_crop.jpg
END:VEVENT
BEGIN:VEVENT
DTSTART;TZID=America/Chicago:20260920T080000
DTEND;TZID=America/Chicago:20260920T170000
DTSTAMP:20260423T031200
CREATED:20260112T154244Z
LAST-MODIFIED:20260112T154340Z
UID:10000280-1789891200-1789923600@bristolranges.com
SUMMARY:Classic Battle Rifle Match 2026
DESCRIPTION:Military rifles from 1917 to 1953 (NO SCOPES). \n\n\n\nThree stages using 200-yard SR5 targets with all shots fired from the prone position. \n\n\n\n10 shots in 7 minutes\, 10 shots in 70 seconds and unlimited shots for 60 seconds. \n\n\n\nMatch Fees: Adults $15.00\, Juniors $5.00
URL:https://bristolranges.com/event/classic-battle-rifle-match-2026/
LOCATION:CCKC Rifle Range\, 21001 85th St\, Bristol\, WI\, 53104\, United States
CATEGORIES:High Power Rifle
ATTACH;FMTTYPE=image/jpeg:https://bristolranges.com/wp-content/uploads/2024/03/Rifle-range-High-Power-2_crop.jpg
END:VEVENT
BEGIN:VEVENT
DTSTART;TZID=America/Chicago:20260927T080000
DTEND;TZID=America/Chicago:20260927T170000
DTSTAMP:20260423T031200
CREATED:20260112T150942Z
LAST-MODIFIED:20260112T152352Z
UID:10000274-1790496000-1790528400@bristolranges.com
SUMMARY:NRA High Power Rifle Matches September 27 2026
DESCRIPTION:NRA approved. NRA rules apply and match scores are submitted to the NRA. \n\n\n\n200 yards\, 52 Rounds\, 4 stages / 3 positions (any rifle\, any sights) \n\n\n\nScores will be grouped by rifle style (service I match) & sight type (iron/ glass) \n\n\n\nMatch Fees: Adults $20.00\, Juniors: $10.00
URL:https://bristolranges.com/event/nra-high-power-rifle-matches-september-27-2026/
LOCATION:CCKC Rifle Range\, 21001 85th St\, Bristol\, WI\, 53104\, United States
CATEGORIES:High Power Rifle
ATTACH;FMTTYPE=image/jpeg:https://bristolranges.com/wp-content/uploads/2024/03/Rifle-range-High-Power-2_crop.jpg
END:VEVENT
BEGIN:VEVENT
DTSTART;TZID=America/Chicago:20261003T080000
DTEND;TZID=America/Chicago:20261003T170000
DTSTAMP:20260423T031200
CREATED:20260112T154617Z
LAST-MODIFIED:20260112T154722Z
UID:10000281-1791014400-1791046800@bristolranges.com
SUMMARY:Military Classic Bolt Action Rifle Match 2026
DESCRIPTION:Military bolt action rifles only. Four stages using 200-yard SR5 targets. \n\n\n\nStage 1-Slow Prone 10 shots in 10 minutes/ Stage 2-Rapid Prone 10 shots in 70 seconds/ \n\n\n\nStage 3-Rapid Sitting 10 shots in 80 seconds/ Stage 4-Offhand 10 shots in 10 minutes. \n\n\n\nMatch Fees: Adults $15.00\, Juniors $5.00
URL:https://bristolranges.com/event/military-classic-bolt-action-rifle-match-2026/
LOCATION:CCKC Rifle Range\, 21001 85th St\, Bristol\, WI\, 53104\, United States
CATEGORIES:High Power Rifle
ATTACH;FMTTYPE=image/jpeg:https://bristolranges.com/wp-content/uploads/2024/03/Rifle-range-High-Power-2_crop.jpg
END:VEVENT
BEGIN:VEVENT
DTSTART;TZID=America/Chicago:20261011T080000
DTEND;TZID=America/Chicago:20261011T170000
DTSTAMP:20260423T031200
CREATED:20260112T151058Z
LAST-MODIFIED:20260112T152355Z
UID:10000275-1791705600-1791738000@bristolranges.com
SUMMARY:NRA High Power Rifle Matches October 11 2026
DESCRIPTION:NRA approved. NRA rules apply and match scores are submitted to the NRA. \n\n\n\n200 yards\, 52 Rounds\, 4 stages / 3 positions (any rifle\, any sights) \n\n\n\nScores will be grouped by rifle style (service I match) & sight type (iron/ glass) \n\n\n\nMatch Fees: Adults $20.00\, Juniors: $10.00
URL:https://bristolranges.com/event/nra-high-power-rifle-matches-october-11-2026/
LOCATION:CCKC Rifle Range\, 21001 85th St\, Bristol\, WI\, 53104\, United States
CATEGORIES:High Power Rifle
ATTACH;FMTTYPE=image/jpeg:https://bristolranges.com/wp-content/uploads/2024/03/Rifle-range-High-Power-2_crop.jpg
END:VEVENT
END:VCALENDAR