BEGIN:VCALENDAR
VERSION:2.0
PRODID:-//Conservation Club of Kenosha County - ECPv6.15.15//NONSGML v1.0//EN
CALSCALE:GREGORIAN
METHOD:PUBLISH
X-ORIGINAL-URL:https://bristolranges.com
X-WR-CALDESC:Events for Conservation Club of Kenosha County
REFRESH-INTERVAL;VALUE=DURATION:PT1H
X-Robots-Tag:noindex
X-PUBLISHED-TTL:PT1H
BEGIN:VTIMEZONE
TZID:America/Chicago
BEGIN:DAYLIGHT
TZOFFSETFROM:-0600
TZOFFSETTO:-0500
TZNAME:CDT
DTSTART:20250309T080000
END:DAYLIGHT
BEGIN:STANDARD
TZOFFSETFROM:-0500
TZOFFSETTO:-0600
TZNAME:CST
DTSTART:20251102T070000
END:STANDARD
BEGIN:DAYLIGHT
TZOFFSETFROM:-0600
TZOFFSETTO:-0500
TZNAME:CDT
DTSTART:20260308T080000
END:DAYLIGHT
BEGIN:STANDARD
TZOFFSETFROM:-0500
TZOFFSETTO:-0600
TZNAME:CST
DTSTART:20261101T070000
END:STANDARD
BEGIN:DAYLIGHT
TZOFFSETFROM:-0600
TZOFFSETTO:-0500
TZNAME:CDT
DTSTART:20270314T080000
END:DAYLIGHT
BEGIN:STANDARD
TZOFFSETFROM:-0500
TZOFFSETTO:-0600
TZNAME:CST
DTSTART:20271107T070000
END:STANDARD
END:VTIMEZONE
BEGIN:VEVENT
DTSTART;TZID=America/Chicago:20260909T180000
DTEND;TZID=America/Chicago:20260909T210000
DTSTAMP:20260424T045345
CREATED:20260112T132311Z
LAST-MODIFIED:20260112T132315Z
UID:10000256-1788976800-1788987600@bristolranges.com
SUMMARY:Action Pistol Match September 9 2026
DESCRIPTION:If you would like to learn how to shoot in competition\, please join us for an exciting 2025 Action Pistol season. We draw a wide range of competitors\, from beginners to seasoned veterans and everyone has a good time. \n\n\n\nOur matches begin at 6:00 PM at the CCKC Rifle Range. NOTE: Registration will close at 6:15PM for safety reasons – you must attend the walkthrough to shoot. \n\n\n\nEach match is an individual competition so join us for whichever match date you can make. The only person you are competing against is yourself. \n\n\n\n\n\n\n\n\n\n\nThe match fees are $15 for CCKC members and $20 for non-members. \n\n\n\nWe run about 4 stages a night and all matches are on WEDNESDAY EVENINGS. \n\n\n\nThe Action Pistol matches are an introduction to the sport of USPSA competitive shooting. \n\n\n\nWe follow safe gun handling principles to help you improve your handgun skills. You will shoot timed match scenarios that require you to move and engage a wide range of reactive and static targets. \n\n\n\nMost participants shoot stock factory semi-auto handguns or pistol caliber rifle. \n\n\n\nPlease bring a small firearm case\, belt holster\, four magazines\, and a minimum of 100 rounds of ammunition (no magnum loads). \n\n\n\nFrom May through September the first match of the month will be .22LR neutral – meaning you can break out your .22 pistol or rifle and shoot the entire match.
URL:https://bristolranges.com/event/action-pistol-match-september-9-2026/
LOCATION:CCKC Rifle Range\, 21001 85th St\, Bristol\, WI\, 53104\, United States
CATEGORIES:Action Pistol
ATTACH;FMTTYPE=image/jpeg:https://bristolranges.com/wp-content/uploads/2024/03/action-pistol-range.jpg
END:VEVENT
BEGIN:VEVENT
DTSTART;TZID=America/Chicago:20260912T084500
DTEND;TZID=America/Chicago:20260912T120000
DTSTAMP:20260424T045345
CREATED:20260204T143112Z
LAST-MODIFIED:20260204T163758Z
UID:10000299-1789202700-1789214400@bristolranges.com
SUMMARY:Bristol Plains Pistoleros Shoot September 2026
DESCRIPTION:Try your hand at one of the fastest growing Shooting Sports around. \n\n\n\nThe CCKC proudly sponsors a Cowboy Action Shooting Club. \n\n\n\nThe Bristol Plains Pistoleros is affiliated with the Single Action Shooting Society (SASS). Where else could you be Wyatt Earp at the OK Corral\, Rooster Cogburn in True Grit or many other fascinating historical characters from the Old West?
URL:https://bristolranges.com/event/bristol-plains-pistoleros-shoot-september-2026/2026-09-12/
LOCATION:WI
CATEGORIES:Cowboy
ATTACH;FMTTYPE=image/jpeg:https://bristolranges.com/wp-content/uploads/2024/03/cowboy.jpg
END:VEVENT
BEGIN:VEVENT
DTSTART;TZID=America/Chicago:20260913T080000
DTEND;TZID=America/Chicago:20260913T170000
DTSTAMP:20260424T045345
CREATED:20260112T150829Z
LAST-MODIFIED:20260112T152351Z
UID:10000273-1789286400-1789318800@bristolranges.com
SUMMARY:NRA High Power Rifle Matches September 13 2026
DESCRIPTION:NRA approved. NRA rules apply and match scores are submitted to the NRA. \n\n\n\n200 yards\, 52 Rounds\, 4 stages / 3 positions (any rifle\, any sights) \n\n\n\nScores will be grouped by rifle style (service I match) & sight type (iron/ glass) \n\n\n\nMatch Fees: Adults $20.00\, Juniors: $10.00
URL:https://bristolranges.com/event/nra-high-power-rifle-matches-september-13-2026/
LOCATION:CCKC Rifle Range\, 21001 85th St\, Bristol\, WI\, 53104\, United States
CATEGORIES:High Power Rifle
ATTACH;FMTTYPE=image/jpeg:https://bristolranges.com/wp-content/uploads/2024/03/Rifle-range-High-Power-2_crop.jpg
END:VEVENT
BEGIN:VEVENT
DTSTART;TZID=America/Chicago:20260913T084500
DTEND;TZID=America/Chicago:20260913T120000
DTSTAMP:20260424T045345
CREATED:20260204T143112Z
LAST-MODIFIED:20260204T163758Z
UID:10000300-1789289100-1789300800@bristolranges.com
SUMMARY:Bristol Plains Pistoleros Shoot September 2026
DESCRIPTION:Try your hand at one of the fastest growing Shooting Sports around. \n\n\n\nThe CCKC proudly sponsors a Cowboy Action Shooting Club. \n\n\n\nThe Bristol Plains Pistoleros is affiliated with the Single Action Shooting Society (SASS). Where else could you be Wyatt Earp at the OK Corral\, Rooster Cogburn in True Grit or many other fascinating historical characters from the Old West?
URL:https://bristolranges.com/event/bristol-plains-pistoleros-shoot-september-2026/2026-09-13/
LOCATION:WI
CATEGORIES:Cowboy
ATTACH;FMTTYPE=image/jpeg:https://bristolranges.com/wp-content/uploads/2024/03/cowboy.jpg
END:VEVENT
BEGIN:VEVENT
DTSTART;TZID=America/Chicago:20260914T190000
DTEND;TZID=America/Chicago:20260914T200000
DTSTAMP:20260424T045345
CREATED:20250714T201141Z
LAST-MODIFIED:20250714T202127Z
UID:10000192-1789412400-1789416000@bristolranges.com
SUMMARY:Board Meeting
DESCRIPTION:The CCKC Board of Directors will meet the second Monday of every month at 7:00pm.
URL:https://bristolranges.com/event/board-meeting/2026-09-14/
LOCATION:CCKC Clubhouse\, 21001 85th St\, Bristol\, WI\, 53104\, United States
CATEGORIES:Meetings
ATTACH;FMTTYPE=image/png:https://bristolranges.com/wp-content/uploads/2024/03/Bristol-Shooting-Range-1.png
END:VEVENT
BEGIN:VEVENT
DTSTART;TZID=America/Chicago:20260919T080000
DTEND;TZID=America/Chicago:20260919T170000
DTSTAMP:20260424T045345
CREATED:20260210T143753Z
LAST-MODIFIED:20260210T143753Z
UID:10000307-1789804800-1789837200@bristolranges.com
SUMMARY:Civil War All Day Shoot September 2026
DESCRIPTION:
URL:https://bristolranges.com/event/civil-war-all-day-shoot-september-2026-2/
LOCATION:WI
CATEGORIES:Black Powder
ATTACH;FMTTYPE=image/jpeg:https://bristolranges.com/wp-content/uploads/2024/03/cowboy-p3rs.jpg
END:VEVENT
BEGIN:VEVENT
DTSTART;TZID=America/Chicago:20260919T080000
DTEND;TZID=America/Chicago:20260919T170000
DTSTAMP:20260424T045345
CREATED:20260210T145050Z
LAST-MODIFIED:20260210T145053Z
UID:10000311-1789804800-1789837200@bristolranges.com
SUMMARY:Civil War All Day Shoot September 2026
DESCRIPTION:
URL:https://bristolranges.com/event/civil-war-all-day-shoot-september-2026/2026-09-19/
LOCATION:CCKC Skirmish Field\, 21001 85th St\, Bristol\, WI\, 53104\, United States
ATTACH;FMTTYPE=image/png:https://bristolranges.com/wp-content/uploads/2026/02/civil-war-shoot.png
END:VEVENT
BEGIN:VEVENT
DTSTART;TZID=America/Chicago:20260920T080000
DTEND;TZID=America/Chicago:20260920T170000
DTSTAMP:20260424T045345
CREATED:20260112T154244Z
LAST-MODIFIED:20260112T154340Z
UID:10000280-1789891200-1789923600@bristolranges.com
SUMMARY:Classic Battle Rifle Match 2026
DESCRIPTION:Military rifles from 1917 to 1953 (NO SCOPES). \n\n\n\nThree stages using 200-yard SR5 targets with all shots fired from the prone position. \n\n\n\n10 shots in 7 minutes\, 10 shots in 70 seconds and unlimited shots for 60 seconds. \n\n\n\nMatch Fees: Adults $15.00\, Juniors $5.00
URL:https://bristolranges.com/event/classic-battle-rifle-match-2026/
LOCATION:CCKC Rifle Range\, 21001 85th St\, Bristol\, WI\, 53104\, United States
CATEGORIES:High Power Rifle
ATTACH;FMTTYPE=image/jpeg:https://bristolranges.com/wp-content/uploads/2024/03/Rifle-range-High-Power-2_crop.jpg
END:VEVENT
BEGIN:VEVENT
DTSTART;TZID=America/Chicago:20260920T080000
DTEND;TZID=America/Chicago:20260920T170000
DTSTAMP:20260424T045345
CREATED:20260210T145050Z
LAST-MODIFIED:20260210T145053Z
UID:10000312-1789891200-1789923600@bristolranges.com
SUMMARY:Civil War All Day Shoot September 2026
DESCRIPTION:
URL:https://bristolranges.com/event/civil-war-all-day-shoot-september-2026/2026-09-20/
LOCATION:CCKC Skirmish Field\, 21001 85th St\, Bristol\, WI\, 53104\, United States
ATTACH;FMTTYPE=image/png:https://bristolranges.com/wp-content/uploads/2026/02/civil-war-shoot.png
END:VEVENT
BEGIN:VEVENT
DTSTART;TZID=America/Chicago:20260923T180000
DTEND;TZID=America/Chicago:20260923T210000
DTSTAMP:20260424T045345
CREATED:20260112T132356Z
LAST-MODIFIED:20260112T132359Z
UID:10000257-1790186400-1790197200@bristolranges.com
SUMMARY:Action Pistol Match September 23 2026
DESCRIPTION:If you would like to learn how to shoot in competition\, please join us for an exciting 2025 Action Pistol season. We draw a wide range of competitors\, from beginners to seasoned veterans and everyone has a good time. \n\n\n\nOur matches begin at 6:00 PM at the CCKC Rifle Range. NOTE: Registration will close at 6:15PM for safety reasons – you must attend the walkthrough to shoot. \n\n\n\nEach match is an individual competition so join us for whichever match date you can make. The only person you are competing against is yourself. \n\n\n\n\n\n\n\n\n\n\nThe match fees are $15 for CCKC members and $20 for non-members. \n\n\n\nWe run about 4 stages a night and all matches are on WEDNESDAY EVENINGS. \n\n\n\nThe Action Pistol matches are an introduction to the sport of USPSA competitive shooting. \n\n\n\nWe follow safe gun handling principles to help you improve your handgun skills. You will shoot timed match scenarios that require you to move and engage a wide range of reactive and static targets. \n\n\n\nMost participants shoot stock factory semi-auto handguns or pistol caliber rifle. \n\n\n\nPlease bring a small firearm case\, belt holster\, four magazines\, and a minimum of 100 rounds of ammunition (no magnum loads). \n\n\n\nFrom May through September the first match of the month will be .22LR neutral – meaning you can break out your .22 pistol or rifle and shoot the entire match.
URL:https://bristolranges.com/event/action-pistol-match-september-23-2026/
LOCATION:CCKC Rifle Range\, 21001 85th St\, Bristol\, WI\, 53104\, United States
CATEGORIES:Action Pistol
ATTACH;FMTTYPE=image/jpeg:https://bristolranges.com/wp-content/uploads/2024/03/action-pistol-range.jpg
END:VEVENT
BEGIN:VEVENT
DTSTART;TZID=America/Chicago:20260927T080000
DTEND;TZID=America/Chicago:20260927T170000
DTSTAMP:20260424T045345
CREATED:20260112T150942Z
LAST-MODIFIED:20260112T152352Z
UID:10000274-1790496000-1790528400@bristolranges.com
SUMMARY:NRA High Power Rifle Matches September 27 2026
DESCRIPTION:NRA approved. NRA rules apply and match scores are submitted to the NRA. \n\n\n\n200 yards\, 52 Rounds\, 4 stages / 3 positions (any rifle\, any sights) \n\n\n\nScores will be grouped by rifle style (service I match) & sight type (iron/ glass) \n\n\n\nMatch Fees: Adults $20.00\, Juniors: $10.00
URL:https://bristolranges.com/event/nra-high-power-rifle-matches-september-27-2026/
LOCATION:CCKC Rifle Range\, 21001 85th St\, Bristol\, WI\, 53104\, United States
CATEGORIES:High Power Rifle
ATTACH;FMTTYPE=image/jpeg:https://bristolranges.com/wp-content/uploads/2024/03/Rifle-range-High-Power-2_crop.jpg
END:VEVENT
END:VCALENDAR