BEGIN:VCALENDAR
VERSION:2.0
PRODID:-//Conservation Club of Kenosha County - ECPv6.15.15//NONSGML v1.0//EN
CALSCALE:GREGORIAN
METHOD:PUBLISH
X-ORIGINAL-URL:https://bristolranges.com
X-WR-CALDESC:Events for Conservation Club of Kenosha County
REFRESH-INTERVAL;VALUE=DURATION:PT1H
X-Robots-Tag:noindex
X-PUBLISHED-TTL:PT1H
BEGIN:VTIMEZONE
TZID:America/Chicago
BEGIN:DAYLIGHT
TZOFFSETFROM:-0600
TZOFFSETTO:-0500
TZNAME:CDT
DTSTART:20240310T080000
END:DAYLIGHT
BEGIN:STANDARD
TZOFFSETFROM:-0500
TZOFFSETTO:-0600
TZNAME:CST
DTSTART:20241103T070000
END:STANDARD
BEGIN:DAYLIGHT
TZOFFSETFROM:-0600
TZOFFSETTO:-0500
TZNAME:CDT
DTSTART:20250309T080000
END:DAYLIGHT
BEGIN:STANDARD
TZOFFSETFROM:-0500
TZOFFSETTO:-0600
TZNAME:CST
DTSTART:20251102T070000
END:STANDARD
BEGIN:DAYLIGHT
TZOFFSETFROM:-0600
TZOFFSETTO:-0500
TZNAME:CDT
DTSTART:20260308T080000
END:DAYLIGHT
BEGIN:STANDARD
TZOFFSETFROM:-0500
TZOFFSETTO:-0600
TZNAME:CST
DTSTART:20261101T070000
END:STANDARD
END:VTIMEZONE
BEGIN:VEVENT
DTSTART;TZID=America/Chicago:20251108T084500
DTEND;TZID=America/Chicago:20251108T120000
DTSTAMP:20260424T045345
CREATED:20250127T200255Z
LAST-MODIFIED:20250127T200348Z
UID:10000127-1762591500-1762603200@bristolranges.com
SUMMARY:Bristol Plains Pistoleros Cowboy Shoot
DESCRIPTION:Try your hand at one of the fastest growing Shooting Sports around. \nThe CCKC proudly sponsors a Cowboy Action Shooting Club. \nThe Bristol Plains Pistoleros is affiliated with the Single Action Shooting Society (SASS). Where else could you be Wyatt Earp at the OK Corral\, Rooster Cogburn in True Grit or many other fascinating historical characters from the Old West?
URL:https://bristolranges.com/event/bristol-plains-pistoleros-cowboy-shoot-2/2025-11-08/
LOCATION:CCKC Skirmish Field\, 21001 85th St\, Bristol\, WI\, 53104\, United States
CATEGORIES:Cowboy
ATTACH;FMTTYPE=image/jpeg:https://bristolranges.com/wp-content/uploads/2024/03/cowboy.jpg
END:VEVENT
BEGIN:VEVENT
DTSTART;TZID=America/Chicago:20251109T084500
DTEND;TZID=America/Chicago:20251109T120000
DTSTAMP:20260424T045345
CREATED:20250127T200255Z
LAST-MODIFIED:20250127T200348Z
UID:10000128-1762677900-1762689600@bristolranges.com
SUMMARY:Bristol Plains Pistoleros Cowboy Shoot
DESCRIPTION:Try your hand at one of the fastest growing Shooting Sports around. \nThe CCKC proudly sponsors a Cowboy Action Shooting Club. \nThe Bristol Plains Pistoleros is affiliated with the Single Action Shooting Society (SASS). Where else could you be Wyatt Earp at the OK Corral\, Rooster Cogburn in True Grit or many other fascinating historical characters from the Old West?
URL:https://bristolranges.com/event/bristol-plains-pistoleros-cowboy-shoot-2/2025-11-09/
LOCATION:CCKC Skirmish Field\, 21001 85th St\, Bristol\, WI\, 53104\, United States
CATEGORIES:Cowboy
ATTACH;FMTTYPE=image/jpeg:https://bristolranges.com/wp-content/uploads/2024/03/cowboy.jpg
END:VEVENT
BEGIN:VEVENT
DTSTART;TZID=America/Chicago:20251110T190000
DTEND;TZID=America/Chicago:20251110T200000
DTSTAMP:20260424T045345
CREATED:20250714T201141Z
LAST-MODIFIED:20250714T202127Z
UID:10000182-1762801200-1762804800@bristolranges.com
SUMMARY:Board Meeting
DESCRIPTION:The CCKC Board of Directors will meet the second Monday of every month at 7:00pm.
URL:https://bristolranges.com/event/board-meeting/2025-11-10/
LOCATION:CCKC Clubhouse\, 21001 85th St\, Bristol\, WI\, 53104\, United States
CATEGORIES:Meetings
ATTACH;FMTTYPE=image/png:https://bristolranges.com/wp-content/uploads/2024/03/Bristol-Shooting-Range-1.png
END:VEVENT
BEGIN:VEVENT
DTSTART;TZID=America/Chicago:20251118T080000
DTEND;TZID=America/Chicago:20251130T233000
DTSTAMP:20260424T045345
CREATED:20251119T150359Z
LAST-MODIFIED:20251119T153114Z
UID:10000245-1763452800-1764545400@bristolranges.com
SUMMARY:2026 Season Wilmot Shooting Team Registration
DESCRIPTION:
URL:https://bristolranges.com/event/2026-season-wilmot-shooting-team-registration/
LOCATION:CCKC Shotgun\, 21320 85th Street\, Bristol\, 53104\, United States
CATEGORIES:Shotgun
ATTACH;FMTTYPE=image/png:https://bristolranges.com/wp-content/uploads/2025/11/2026-Season-Wilmot-Shooting-Team-Registration.png
ORGANIZER;CN="Wilmot Shooting Team":MAILTO:pistolrifle@wilmotshootingteam.com
END:VEVENT
END:VCALENDAR