BEGIN:VCALENDAR
VERSION:2.0
PRODID:-//Conservation Club of Kenosha County - ECPv6.15.15//NONSGML v1.0//EN
CALSCALE:GREGORIAN
METHOD:PUBLISH
X-WR-CALNAME:Conservation Club of Kenosha County
X-ORIGINAL-URL:https://bristolranges.com
X-WR-CALDESC:Events for Conservation Club of Kenosha County
REFRESH-INTERVAL;VALUE=DURATION:PT1H
X-Robots-Tag:noindex
X-PUBLISHED-TTL:PT1H
BEGIN:VTIMEZONE
TZID:America/Chicago
BEGIN:DAYLIGHT
TZOFFSETFROM:-0600
TZOFFSETTO:-0500
TZNAME:CDT
DTSTART:20240310T080000
END:DAYLIGHT
BEGIN:STANDARD
TZOFFSETFROM:-0500
TZOFFSETTO:-0600
TZNAME:CST
DTSTART:20241103T070000
END:STANDARD
BEGIN:DAYLIGHT
TZOFFSETFROM:-0600
TZOFFSETTO:-0500
TZNAME:CDT
DTSTART:20250309T080000
END:DAYLIGHT
BEGIN:STANDARD
TZOFFSETFROM:-0500
TZOFFSETTO:-0600
TZNAME:CST
DTSTART:20251102T070000
END:STANDARD
BEGIN:DAYLIGHT
TZOFFSETFROM:-0600
TZOFFSETTO:-0500
TZNAME:CDT
DTSTART:20260308T080000
END:DAYLIGHT
BEGIN:STANDARD
TZOFFSETFROM:-0500
TZOFFSETTO:-0600
TZNAME:CST
DTSTART:20261101T070000
END:STANDARD
END:VTIMEZONE
BEGIN:VEVENT
DTSTART;TZID=America/Chicago:20251004T080000
DTEND;TZID=America/Chicago:20251004T170000
DTSTAMP:20260424T060654
CREATED:20250320T144320Z
LAST-MODIFIED:20250320T144351Z
UID:10000176-1759564800-1759597200@bristolranges.com
SUMMARY:Military Classic Bolt Action Rifle Match
DESCRIPTION:Military bolt action rifles only. Four stages using 200-yard SR5 targets. \nStage 1-Slow Prone 10 shots in 10 minutes/ Stage 2-Rapid Prone 10 shots in 70 seconds/ \nStage 3-Rapid Sitting 10 shots in 80 seconds/ Stage 4-Offhand 10 shots in 10 minutes. \nMatch Fees: Adults $15.00\, Juniors $5.00
URL:https://bristolranges.com/event/military-classic-bolt-action-rifle-match-2/
LOCATION:CCKC Rifle Range\, 21001 85th St\, Bristol\, WI\, 53104\, United States
CATEGORIES:High Power Rifle
ATTACH;FMTTYPE=image/jpeg:https://bristolranges.com/wp-content/uploads/2024/03/Rifle-range-High-Power-2_crop.jpg
END:VEVENT
BEGIN:VEVENT
DTSTART;TZID=America/Chicago:20251008T180000
DTEND;TZID=America/Chicago:20251008T210000
DTSTAMP:20260424T060654
CREATED:20250217T163339Z
LAST-MODIFIED:20250217T163339Z
UID:10000144-1759946400-1759957200@bristolranges.com
SUMMARY:Action Steel Competitive Shooting Match October 2025
DESCRIPTION:If you would like to learn how to shoot in competition\, please join us for an exciting 2025 Action Pistol season. We draw a wide range of competitors\, from beginners to seasoned veterans and everyone has a good time. \nOur matches begin at 6:00 PM at the CCKC Rifle Range. NOTE: Registration will close at 6:15PM for safety reasons – you must attend the walkthrough to shoot. \nEach match is an individual competition so join us for whichever match date you can make. The only person you are competing against is yourself. \nThe match fees are $15 for CCKC members and $20 for non-members. \nWe run about 4 stages a night and all matches are on WEDNESDAY EVENINGS. \nThese matches challenge you to knock down steel targets. \nYou can shoot this match with a handgun\, a shotgun\, a pistol caliber rifle or a combination thereof. Bring a minimum of 50 shot shells (#6 LEAD shot or smaller) and/or a minimum of 100 rounds of pistol ammunition (no magnum loads) with you. \nSee how well you can engage these steel targets!
URL:https://bristolranges.com/event/action-steel-competitive-shooting-match-october-2025/
LOCATION:CCKC Rifle Range\, 21001 85th St\, Bristol\, WI\, 53104\, United States
CATEGORIES:Action Pistol
ATTACH;FMTTYPE=image/jpeg:https://bristolranges.com/wp-content/uploads/2024/03/action-pistol-range.jpg
END:VEVENT
BEGIN:VEVENT
DTSTART;TZID=America/Chicago:20251011T084500
DTEND;TZID=America/Chicago:20251011T120000
DTSTAMP:20260424T060654
CREATED:20250127T200255Z
LAST-MODIFIED:20250127T200348Z
UID:10000125-1760172300-1760184000@bristolranges.com
SUMMARY:Bristol Plains Pistoleros Cowboy Shoot
DESCRIPTION:Try your hand at one of the fastest growing Shooting Sports around. \nThe CCKC proudly sponsors a Cowboy Action Shooting Club. \nThe Bristol Plains Pistoleros is affiliated with the Single Action Shooting Society (SASS). Where else could you be Wyatt Earp at the OK Corral\, Rooster Cogburn in True Grit or many other fascinating historical characters from the Old West?
URL:https://bristolranges.com/event/bristol-plains-pistoleros-cowboy-shoot-2/2025-10-11/
LOCATION:CCKC Skirmish Field\, 21001 85th St\, Bristol\, WI\, 53104\, United States
CATEGORIES:Cowboy
ATTACH;FMTTYPE=image/jpeg:https://bristolranges.com/wp-content/uploads/2024/03/cowboy.jpg
END:VEVENT
BEGIN:VEVENT
DTSTART;TZID=America/Chicago:20251012T084500
DTEND;TZID=America/Chicago:20251012T120000
DTSTAMP:20260424T060654
CREATED:20250127T200255Z
LAST-MODIFIED:20250127T200348Z
UID:10000126-1760258700-1760270400@bristolranges.com
SUMMARY:Bristol Plains Pistoleros Cowboy Shoot
DESCRIPTION:Try your hand at one of the fastest growing Shooting Sports around. \nThe CCKC proudly sponsors a Cowboy Action Shooting Club. \nThe Bristol Plains Pistoleros is affiliated with the Single Action Shooting Society (SASS). Where else could you be Wyatt Earp at the OK Corral\, Rooster Cogburn in True Grit or many other fascinating historical characters from the Old West?
URL:https://bristolranges.com/event/bristol-plains-pistoleros-cowboy-shoot-2/2025-10-12/
LOCATION:CCKC Skirmish Field\, 21001 85th St\, Bristol\, WI\, 53104\, United States
CATEGORIES:Cowboy
ATTACH;FMTTYPE=image/jpeg:https://bristolranges.com/wp-content/uploads/2024/03/cowboy.jpg
END:VEVENT
BEGIN:VEVENT
DTSTART;TZID=America/Chicago:20251013T190000
DTEND;TZID=America/Chicago:20251013T200000
DTSTAMP:20260424T060654
CREATED:20250714T201141Z
LAST-MODIFIED:20250714T202127Z
UID:10000181-1760382000-1760385600@bristolranges.com
SUMMARY:Board Meeting
DESCRIPTION:The CCKC Board of Directors will meet the second Monday of every month at 7:00pm.
URL:https://bristolranges.com/event/board-meeting/2025-10-13/
LOCATION:CCKC Clubhouse\, 21001 85th St\, Bristol\, WI\, 53104\, United States
CATEGORIES:Meetings
ATTACH;FMTTYPE=image/png:https://bristolranges.com/wp-content/uploads/2024/03/Bristol-Shooting-Range-1.png
END:VEVENT
BEGIN:VEVENT
DTSTART;TZID=America/Chicago:20251022T180000
DTEND;TZID=America/Chicago:20251022T210000
DTSTAMP:20260424T060654
CREATED:20250217T162532Z
LAST-MODIFIED:20250217T162532Z
UID:10000139-1761156000-1761166800@bristolranges.com
SUMMARY:Action Pistol Match Halloween 2025
DESCRIPTION:If you would like to learn how to shoot in competition\, please join us for an exciting 2025 Action Pistol season. We draw a wide range of competitors\, from beginners to seasoned veterans and everyone has a good time. \nOur matches begin at 6:00 PM at the CCKC Rifle Range. NOTE: Registration will close at 6:15PM for safety reasons – you must attend the walkthrough to shoot. \nEach match is an individual competition so join us for whichever match date you can make. The only person you are competing against is yourself. \nThe match fees are $15 for CCKC members and $20 for non-members. \nWe run about 4 stages a night and all matches are on WEDNESDAY EVENINGS. \nThe Action Pistol matches are an introduction to the sport of USPSA competitive shooting. \nWe follow safe gun handling principles to help you improve your handgun skills. You will shoot timed match scenarios that require you to move and engage a wide range of reactive and static targets. \nMost participants shoot stock factory semi-auto handguns or pistol caliber rifle. \nPlease bring a small firearm case\, belt holster\, four magazines\, and a minimum of 100 rounds of ammunition (no magnum loads). \nFrom May through September the first match of the month will be .22LR neutral – meaning you can break out your .22 pistol or rifle and shoot the entire match.
URL:https://bristolranges.com/event/action-pistol-match-halloween-2025/
LOCATION:CCKC Rifle Range\, 21001 85th St\, Bristol\, WI\, 53104\, United States
CATEGORIES:Action Pistol
ATTACH;FMTTYPE=image/jpeg:https://bristolranges.com/wp-content/uploads/2024/03/action-pistol-range.jpg
END:VEVENT
END:VCALENDAR