BEGIN:VCALENDAR
VERSION:2.0
PRODID:-//Conservation Club of Kenosha County - ECPv6.15.15//NONSGML v1.0//EN
CALSCALE:GREGORIAN
METHOD:PUBLISH
X-WR-CALNAME:Conservation Club of Kenosha County
X-ORIGINAL-URL:https://bristolranges.com
X-WR-CALDESC:Events for Conservation Club of Kenosha County
REFRESH-INTERVAL;VALUE=DURATION:PT1H
X-Robots-Tag:noindex
X-PUBLISHED-TTL:PT1H
BEGIN:VTIMEZONE
TZID:America/Chicago
BEGIN:DAYLIGHT
TZOFFSETFROM:-0600
TZOFFSETTO:-0500
TZNAME:CDT
DTSTART:20230312T080000
END:DAYLIGHT
BEGIN:STANDARD
TZOFFSETFROM:-0500
TZOFFSETTO:-0600
TZNAME:CST
DTSTART:20231105T070000
END:STANDARD
BEGIN:DAYLIGHT
TZOFFSETFROM:-0600
TZOFFSETTO:-0500
TZNAME:CDT
DTSTART:20240310T080000
END:DAYLIGHT
BEGIN:STANDARD
TZOFFSETFROM:-0500
TZOFFSETTO:-0600
TZNAME:CST
DTSTART:20241103T070000
END:STANDARD
BEGIN:DAYLIGHT
TZOFFSETFROM:-0600
TZOFFSETTO:-0500
TZNAME:CDT
DTSTART:20250309T080000
END:DAYLIGHT
BEGIN:STANDARD
TZOFFSETFROM:-0500
TZOFFSETTO:-0600
TZNAME:CST
DTSTART:20251102T070000
END:STANDARD
END:VTIMEZONE
BEGIN:VEVENT
DTSTART;TZID=America/Chicago:20240710T180000
DTEND;TZID=America/Chicago:20240710T210000
DTSTAMP:20260423T073331
CREATED:20240325T120619Z
LAST-MODIFIED:20240325T122204Z
UID:10000007-1720634400-1720645200@bristolranges.com
SUMMARY:Action Pistol Competitive Shooting Match
DESCRIPTION:If you would like to learn how to shoot in competition\, please join us for an exciting Action Pistol season. We draw a wide range of competitors\, from beginners to seasoned veterans and everyone has a good time. \nThe Action Pistol matches are an introduction to the sport of USPSA competitive shooting. \nWe follow safe gun handling principles to help you improve your handgun skills. You will shoot timed match scenarios that require you to move and engage a wide range of reactive and static targets. Most participants shoot stock factory semi-auto handguns or pistol caliber rifle. \nPlease bring a small firearm case\, belt holster\, four magazines\, and a minimum of 100 rounds of ammunition (no magnum loads). \nFrom May through September the first match of the month will be .22LR neutral – meaning you can break out your .22 pistol or rifle and shoot the entire match. \nNOTE: Registration will close at 6:15PM for safety reasons – you must attend the walk through to shoot. \nEach match is an individual competition so join us for whichever match date you can make. The only person you are competing against is yourself. \nThe match fees are $15 for CCKC members and $20 for nonmembers. \nWe run about 4 stages a night and all matches are on WEDNESDAY EVENINGS.
URL:https://bristolranges.com/event/action-pistol-competitive-shooting-match/2024-07-10/
LOCATION:CCKC Rifle Range\, 21001 85th St\, Bristol\, WI\, 53104\, United States
CATEGORIES:Action Pistol
ATTACH;FMTTYPE=image/jpeg:https://bristolranges.com/wp-content/uploads/2024/03/action-pistol-range.jpg
END:VEVENT
BEGIN:VEVENT
DTSTART;TZID=America/Chicago:20240713T084500
DTEND;TZID=America/Chicago:20240713T120000
DTSTAMP:20260423T073331
CREATED:20240325T123332Z
LAST-MODIFIED:20240404T212045Z
UID:10000036-1720860300-1720872000@bristolranges.com
SUMMARY:Bristol Plains Pistoleros Cowboy Shoot
DESCRIPTION:Try your hand at one of the fastest growing Shooting Sports around. \nThe CCKC proudly sponsors a Cowboy Action Shooting Club. \nThe Bristol Plains Pistoleros is affiliated with the Single Action Shooting Society (SASS). Where else could you be Wyatt Earp at the OK Corral\, Rooster Cogburn in True Grit or many other fascinating historical characters from the Old West?
URL:https://bristolranges.com/event/bristol-plains-pistoleros-cowboy-shoot/2024-07-13/
LOCATION:CCKC Skirmish Field\, 21001 85th St\, Bristol\, WI\, 53104\, United States
CATEGORIES:Cowboy
ATTACH;FMTTYPE=image/jpeg:https://bristolranges.com/wp-content/uploads/2024/03/cowboy.jpg
END:VEVENT
BEGIN:VEVENT
DTSTART;TZID=America/Chicago:20240714T080000
DTEND;TZID=America/Chicago:20240714T170000
DTSTAMP:20260423T073331
CREATED:20240325T130138Z
LAST-MODIFIED:20240325T130156Z
UID:10000071-1720944000-1720976400@bristolranges.com
SUMMARY:Garand Rifle Matches
DESCRIPTION:This is a fun match and is not NRA or CMP sanctioned \nNRA rules apply. 200 yards\, 52 rounds\, 4 Stages and 3 positions. \nMatch Fees: Adults $15.00\, Juniors: $5.00
URL:https://bristolranges.com/event/garand-rifle-matches/2024-07-14/
LOCATION:CCKC Rifle Range\, 21001 85th St\, Bristol\, WI\, 53104\, United States
CATEGORIES:High Power Rifle
ATTACH;FMTTYPE=image/jpeg:https://bristolranges.com/wp-content/uploads/2024/03/Rifle-range-High-Power-2_crop.jpg
END:VEVENT
BEGIN:VEVENT
DTSTART;TZID=America/Chicago:20240714T084500
DTEND;TZID=America/Chicago:20240714T120000
DTSTAMP:20260423T073331
CREATED:20240325T123332Z
LAST-MODIFIED:20240404T212045Z
UID:10000037-1720946700-1720958400@bristolranges.com
SUMMARY:Bristol Plains Pistoleros Cowboy Shoot
DESCRIPTION:Try your hand at one of the fastest growing Shooting Sports around. \nThe CCKC proudly sponsors a Cowboy Action Shooting Club. \nThe Bristol Plains Pistoleros is affiliated with the Single Action Shooting Society (SASS). Where else could you be Wyatt Earp at the OK Corral\, Rooster Cogburn in True Grit or many other fascinating historical characters from the Old West?
URL:https://bristolranges.com/event/bristol-plains-pistoleros-cowboy-shoot/2024-07-14/
LOCATION:CCKC Skirmish Field\, 21001 85th St\, Bristol\, WI\, 53104\, United States
CATEGORIES:Cowboy
ATTACH;FMTTYPE=image/jpeg:https://bristolranges.com/wp-content/uploads/2024/03/cowboy.jpg
END:VEVENT
BEGIN:VEVENT
DTSTART;VALUE=DATE:20240720
DTEND;VALUE=DATE:20240721
DTSTAMP:20260423T073331
CREATED:20240404T212511Z
LAST-MODIFIED:20240404T212511Z
UID:10000083-1721433600-1721519999@bristolranges.com
SUMMARY:Civil War All Day Shoot
DESCRIPTION:
URL:https://bristolranges.com/event/civil-war-all-day-shoot/2024-07-20/
LOCATION:CCKC Skirmish Field\, 21001 85th St\, Bristol\, WI\, 53104\, United States
CATEGORIES:Cowboy
ATTACH;FMTTYPE=image/jpeg:https://bristolranges.com/wp-content/uploads/2024/03/cowboy-p3rs.jpg
END:VEVENT
BEGIN:VEVENT
DTSTART;TZID=America/Chicago:20240721T080000
DTEND;TZID=America/Chicago:20240721T170000
DTSTAMP:20260423T073331
CREATED:20240325T125937Z
LAST-MODIFIED:20240325T125937Z
UID:10000051-1721548800-1721581200@bristolranges.com
SUMMARY:NRA High Power Rifle Matches
DESCRIPTION:NRA approved. NRA rules apply and match scores are submitted to the NRA. \n200 yards\, 52 Rounds\, 4 stages / 3 positions (any rifle\, any sights) \nScores will be grouped by rifle style (service I match) & sight type (iron/ glass) \nMatch Fees: Adults $20.00\, Juniors: $10.00
URL:https://bristolranges.com/event/nra-high-power-rifle-matches/2024-07-21/
LOCATION:CCKC Rifle Range\, 21001 85th St\, Bristol\, WI\, 53104\, United States
CATEGORIES:High Power Rifle
ATTACH;FMTTYPE=image/jpeg:https://bristolranges.com/wp-content/uploads/2024/03/Rifle-range-High-Power-2_crop.jpg
END:VEVENT
BEGIN:VEVENT
DTSTART;VALUE=DATE:20240721
DTEND;VALUE=DATE:20240722
DTSTAMP:20260423T073331
CREATED:20240404T212511Z
LAST-MODIFIED:20240404T212511Z
UID:10000084-1721548800-1721581200@bristolranges.com
SUMMARY:Civil War All Day Shoot
DESCRIPTION:
URL:https://bristolranges.com/event/civil-war-all-day-shoot/2024-07-21/
LOCATION:CCKC Skirmish Field\, 21001 85th St\, Bristol\, WI\, 53104\, United States
CATEGORIES:Cowboy
ATTACH;FMTTYPE=image/jpeg:https://bristolranges.com/wp-content/uploads/2024/03/cowboy-p3rs.jpg
END:VEVENT
BEGIN:VEVENT
DTSTART;TZID=America/Chicago:20240724T180000
DTEND;TZID=America/Chicago:20240724T210000
DTSTAMP:20260423T073331
CREATED:20240325T120619Z
LAST-MODIFIED:20240325T122204Z
UID:10000008-1721844000-1721854800@bristolranges.com
SUMMARY:Action Pistol Competitive Shooting Match
DESCRIPTION:If you would like to learn how to shoot in competition\, please join us for an exciting Action Pistol season. We draw a wide range of competitors\, from beginners to seasoned veterans and everyone has a good time. \nThe Action Pistol matches are an introduction to the sport of USPSA competitive shooting. \nWe follow safe gun handling principles to help you improve your handgun skills. You will shoot timed match scenarios that require you to move and engage a wide range of reactive and static targets. Most participants shoot stock factory semi-auto handguns or pistol caliber rifle. \nPlease bring a small firearm case\, belt holster\, four magazines\, and a minimum of 100 rounds of ammunition (no magnum loads). \nFrom May through September the first match of the month will be .22LR neutral – meaning you can break out your .22 pistol or rifle and shoot the entire match. \nNOTE: Registration will close at 6:15PM for safety reasons – you must attend the walk through to shoot. \nEach match is an individual competition so join us for whichever match date you can make. The only person you are competing against is yourself. \nThe match fees are $15 for CCKC members and $20 for nonmembers. \nWe run about 4 stages a night and all matches are on WEDNESDAY EVENINGS.
URL:https://bristolranges.com/event/action-pistol-competitive-shooting-match/2024-07-24/
LOCATION:CCKC Rifle Range\, 21001 85th St\, Bristol\, WI\, 53104\, United States
CATEGORIES:Action Pistol
ATTACH;FMTTYPE=image/jpeg:https://bristolranges.com/wp-content/uploads/2024/03/action-pistol-range.jpg
END:VEVENT
END:VCALENDAR