BEGIN:VCALENDAR
VERSION:2.0
PRODID:-//Conservation Club of Kenosha County - ECPv6.15.15//NONSGML v1.0//EN
CALSCALE:GREGORIAN
METHOD:PUBLISH
X-ORIGINAL-URL:https://bristolranges.com
X-WR-CALDESC:Events for Conservation Club of Kenosha County
REFRESH-INTERVAL;VALUE=DURATION:PT1H
X-Robots-Tag:noindex
X-PUBLISHED-TTL:PT1H
BEGIN:VTIMEZONE
TZID:America/Chicago
BEGIN:DAYLIGHT
TZOFFSETFROM:-0600
TZOFFSETTO:-0500
TZNAME:CDT
DTSTART:20230312T080000
END:DAYLIGHT
BEGIN:STANDARD
TZOFFSETFROM:-0500
TZOFFSETTO:-0600
TZNAME:CST
DTSTART:20231105T070000
END:STANDARD
BEGIN:DAYLIGHT
TZOFFSETFROM:-0600
TZOFFSETTO:-0500
TZNAME:CDT
DTSTART:20240310T080000
END:DAYLIGHT
BEGIN:STANDARD
TZOFFSETFROM:-0500
TZOFFSETTO:-0600
TZNAME:CST
DTSTART:20241103T070000
END:STANDARD
BEGIN:DAYLIGHT
TZOFFSETFROM:-0600
TZOFFSETTO:-0500
TZNAME:CDT
DTSTART:20250309T080000
END:DAYLIGHT
BEGIN:STANDARD
TZOFFSETFROM:-0500
TZOFFSETTO:-0600
TZNAME:CST
DTSTART:20251102T070000
END:STANDARD
END:VTIMEZONE
BEGIN:VEVENT
DTSTART;TZID=America/Chicago:20240602T080000
DTEND;TZID=America/Chicago:20240602T170000
DTSTAMP:20260423T102037
CREATED:20240325T130617Z
LAST-MODIFIED:20240325T130617Z
UID:10000078-1717315200-1717347600@bristolranges.com
SUMMARY:Classic Battle Rifle Match
DESCRIPTION:Military rifles from 1917 to 1953 (NO SCOPES). \nThree stages using 200-yard SR5 targets with all shots fired from the prone position. \n10 shots in 7 minutes\, 10 shots in 70 seconds and unlimited shots for 60 seconds. \nMatch Fees: Adults $15.00\, Juniors $5.00
URL:https://bristolranges.com/event/classic-battle-rifle-match/
LOCATION:CCKC Rifle Range\, 21001 85th St\, Bristol\, WI\, 53104\, United States
CATEGORIES:High Power Rifle
ATTACH;FMTTYPE=image/jpeg:https://bristolranges.com/wp-content/uploads/2024/03/Rifle-range-High-Power-2_crop.jpg
END:VEVENT
BEGIN:VEVENT
DTSTART;TZID=America/Chicago:20240605T180000
DTEND;TZID=America/Chicago:20240605T210000
DTSTAMP:20260423T102037
CREATED:20240325T120619Z
LAST-MODIFIED:20240325T122204Z
UID:10000005-1717610400-1717621200@bristolranges.com
SUMMARY:Action Pistol Competitive Shooting Match
DESCRIPTION:If you would like to learn how to shoot in competition\, please join us for an exciting Action Pistol season. We draw a wide range of competitors\, from beginners to seasoned veterans and everyone has a good time. \nThe Action Pistol matches are an introduction to the sport of USPSA competitive shooting. \nWe follow safe gun handling principles to help you improve your handgun skills. You will shoot timed match scenarios that require you to move and engage a wide range of reactive and static targets. Most participants shoot stock factory semi-auto handguns or pistol caliber rifle. \nPlease bring a small firearm case\, belt holster\, four magazines\, and a minimum of 100 rounds of ammunition (no magnum loads). \nFrom May through September the first match of the month will be .22LR neutral – meaning you can break out your .22 pistol or rifle and shoot the entire match. \nNOTE: Registration will close at 6:15PM for safety reasons – you must attend the walk through to shoot. \nEach match is an individual competition so join us for whichever match date you can make. The only person you are competing against is yourself. \nThe match fees are $15 for CCKC members and $20 for nonmembers. \nWe run about 4 stages a night and all matches are on WEDNESDAY EVENINGS.
URL:https://bristolranges.com/event/action-pistol-competitive-shooting-match/2024-06-05/
LOCATION:CCKC Rifle Range\, 21001 85th St\, Bristol\, WI\, 53104\, United States
CATEGORIES:Action Pistol
ATTACH;FMTTYPE=image/jpeg:https://bristolranges.com/wp-content/uploads/2024/03/action-pistol-range.jpg
END:VEVENT
BEGIN:VEVENT
DTSTART;TZID=America/Chicago:20240608T080000
DTEND;TZID=America/Chicago:20240608T170000
DTSTAMP:20260423T102037
CREATED:20240325T125937Z
LAST-MODIFIED:20240325T125937Z
UID:10000049-1717833600-1717866000@bristolranges.com
SUMMARY:NRA High Power Rifle Matches
DESCRIPTION:NRA approved. NRA rules apply and match scores are submitted to the NRA. \n200 yards\, 52 Rounds\, 4 stages / 3 positions (any rifle\, any sights) \nScores will be grouped by rifle style (service I match) & sight type (iron/ glass) \nMatch Fees: Adults $20.00\, Juniors: $10.00
URL:https://bristolranges.com/event/nra-high-power-rifle-matches/2024-06-08/
LOCATION:CCKC Rifle Range\, 21001 85th St\, Bristol\, WI\, 53104\, United States
CATEGORIES:High Power Rifle
ATTACH;FMTTYPE=image/jpeg:https://bristolranges.com/wp-content/uploads/2024/03/Rifle-range-High-Power-2_crop.jpg
END:VEVENT
BEGIN:VEVENT
DTSTART;TZID=America/Chicago:20240608T084500
DTEND;TZID=America/Chicago:20240608T120000
DTSTAMP:20260423T102037
CREATED:20240325T123332Z
LAST-MODIFIED:20240404T212045Z
UID:10000034-1717836300-1717848000@bristolranges.com
SUMMARY:Bristol Plains Pistoleros Cowboy Shoot
DESCRIPTION:Try your hand at one of the fastest growing Shooting Sports around. \nThe CCKC proudly sponsors a Cowboy Action Shooting Club. \nThe Bristol Plains Pistoleros is affiliated with the Single Action Shooting Society (SASS). Where else could you be Wyatt Earp at the OK Corral\, Rooster Cogburn in True Grit or many other fascinating historical characters from the Old West?
URL:https://bristolranges.com/event/bristol-plains-pistoleros-cowboy-shoot/2024-06-08/
LOCATION:CCKC Skirmish Field\, 21001 85th St\, Bristol\, WI\, 53104\, United States
CATEGORIES:Cowboy
ATTACH;FMTTYPE=image/jpeg:https://bristolranges.com/wp-content/uploads/2024/03/cowboy.jpg
END:VEVENT
BEGIN:VEVENT
DTSTART;TZID=America/Chicago:20240609T084500
DTEND;TZID=America/Chicago:20240609T120000
DTSTAMP:20260423T102037
CREATED:20240325T123332Z
LAST-MODIFIED:20240404T212045Z
UID:10000035-1717922700-1717934400@bristolranges.com
SUMMARY:Bristol Plains Pistoleros Cowboy Shoot
DESCRIPTION:Try your hand at one of the fastest growing Shooting Sports around. \nThe CCKC proudly sponsors a Cowboy Action Shooting Club. \nThe Bristol Plains Pistoleros is affiliated with the Single Action Shooting Society (SASS). Where else could you be Wyatt Earp at the OK Corral\, Rooster Cogburn in True Grit or many other fascinating historical characters from the Old West?
URL:https://bristolranges.com/event/bristol-plains-pistoleros-cowboy-shoot/2024-06-09/
LOCATION:CCKC Skirmish Field\, 21001 85th St\, Bristol\, WI\, 53104\, United States
CATEGORIES:Cowboy
ATTACH;FMTTYPE=image/jpeg:https://bristolranges.com/wp-content/uploads/2024/03/cowboy.jpg
END:VEVENT
BEGIN:VEVENT
DTSTART;TZID=America/Chicago:20240615T080000
DTEND;TZID=America/Chicago:20240615T170000
DTSTAMP:20260423T102037
CREATED:20240325T125937Z
LAST-MODIFIED:20240325T125937Z
UID:10000050-1718438400-1718470800@bristolranges.com
SUMMARY:NRA High Power Rifle Matches
DESCRIPTION:NRA approved. NRA rules apply and match scores are submitted to the NRA. \n200 yards\, 52 Rounds\, 4 stages / 3 positions (any rifle\, any sights) \nScores will be grouped by rifle style (service I match) & sight type (iron/ glass) \nMatch Fees: Adults $20.00\, Juniors: $10.00
URL:https://bristolranges.com/event/nra-high-power-rifle-matches/2024-06-15/
LOCATION:CCKC Rifle Range\, 21001 85th St\, Bristol\, WI\, 53104\, United States
CATEGORIES:High Power Rifle
ATTACH;FMTTYPE=image/jpeg:https://bristolranges.com/wp-content/uploads/2024/03/Rifle-range-High-Power-2_crop.jpg
END:VEVENT
BEGIN:VEVENT
DTSTART;TZID=America/Chicago:20240618T193000
DTEND;TZID=America/Chicago:20240618T213000
DTSTAMP:20260423T102037
CREATED:20240412T142011Z
LAST-MODIFIED:20250714T202208Z
UID:10000088-1718739000-1718746200@bristolranges.com
SUMMARY:The CCKC Annual Meeting
DESCRIPTION:The CCKC Board of Directors will meet first at 6:30pm followed by the election. All club members are urged to attend.
URL:https://bristolranges.com/event/the-cckc-annual-meeting/2024-06-18/
LOCATION:CCKC Clubhouse\, 21001 85th St\, Bristol\, WI\, 53104\, United States
CATEGORIES:Meetings
END:VEVENT
BEGIN:VEVENT
DTSTART;TZID=America/Chicago:20240619T180000
DTEND;TZID=America/Chicago:20240619T210000
DTSTAMP:20260423T102037
CREATED:20240325T120619Z
LAST-MODIFIED:20240325T122204Z
UID:10000006-1718820000-1718830800@bristolranges.com
SUMMARY:Action Pistol Competitive Shooting Match
DESCRIPTION:If you would like to learn how to shoot in competition\, please join us for an exciting Action Pistol season. We draw a wide range of competitors\, from beginners to seasoned veterans and everyone has a good time. \nThe Action Pistol matches are an introduction to the sport of USPSA competitive shooting. \nWe follow safe gun handling principles to help you improve your handgun skills. You will shoot timed match scenarios that require you to move and engage a wide range of reactive and static targets. Most participants shoot stock factory semi-auto handguns or pistol caliber rifle. \nPlease bring a small firearm case\, belt holster\, four magazines\, and a minimum of 100 rounds of ammunition (no magnum loads). \nFrom May through September the first match of the month will be .22LR neutral – meaning you can break out your .22 pistol or rifle and shoot the entire match. \nNOTE: Registration will close at 6:15PM for safety reasons – you must attend the walk through to shoot. \nEach match is an individual competition so join us for whichever match date you can make. The only person you are competing against is yourself. \nThe match fees are $15 for CCKC members and $20 for nonmembers. \nWe run about 4 stages a night and all matches are on WEDNESDAY EVENINGS.
URL:https://bristolranges.com/event/action-pistol-competitive-shooting-match/2024-06-19/
LOCATION:CCKC Rifle Range\, 21001 85th St\, Bristol\, WI\, 53104\, United States
CATEGORIES:Action Pistol
ATTACH;FMTTYPE=image/jpeg:https://bristolranges.com/wp-content/uploads/2024/03/action-pistol-range.jpg
END:VEVENT
END:VCALENDAR