BEGIN:VCALENDAR
VERSION:2.0
PRODID:-//Conservation Club of Kenosha County - ECPv6.15.15//NONSGML v1.0//EN
CALSCALE:GREGORIAN
METHOD:PUBLISH
X-ORIGINAL-URL:https://bristolranges.com
X-WR-CALDESC:Events for Conservation Club of Kenosha County
REFRESH-INTERVAL;VALUE=DURATION:PT1H
X-Robots-Tag:noindex
X-PUBLISHED-TTL:PT1H
BEGIN:VTIMEZONE
TZID:America/Chicago
BEGIN:DAYLIGHT
TZOFFSETFROM:-0600
TZOFFSETTO:-0500
TZNAME:CDT
DTSTART:20250309T080000
END:DAYLIGHT
BEGIN:STANDARD
TZOFFSETFROM:-0500
TZOFFSETTO:-0600
TZNAME:CST
DTSTART:20251102T070000
END:STANDARD
BEGIN:DAYLIGHT
TZOFFSETFROM:-0600
TZOFFSETTO:-0500
TZNAME:CDT
DTSTART:20260308T080000
END:DAYLIGHT
BEGIN:STANDARD
TZOFFSETFROM:-0500
TZOFFSETTO:-0600
TZNAME:CST
DTSTART:20261101T070000
END:STANDARD
BEGIN:DAYLIGHT
TZOFFSETFROM:-0600
TZOFFSETTO:-0500
TZNAME:CDT
DTSTART:20270314T080000
END:DAYLIGHT
BEGIN:STANDARD
TZOFFSETFROM:-0500
TZOFFSETTO:-0600
TZNAME:CST
DTSTART:20271107T070000
END:STANDARD
BEGIN:DAYLIGHT
TZOFFSETFROM:-0600
TZOFFSETTO:-0500
TZNAME:CDT
DTSTART:20280312T080000
END:DAYLIGHT
BEGIN:STANDARD
TZOFFSETFROM:-0500
TZOFFSETTO:-0600
TZNAME:CST
DTSTART:20281105T070000
END:STANDARD
BEGIN:DAYLIGHT
TZOFFSETFROM:-0600
TZOFFSETTO:-0500
TZNAME:CDT
DTSTART:20290311T080000
END:DAYLIGHT
BEGIN:STANDARD
TZOFFSETFROM:-0500
TZOFFSETTO:-0600
TZNAME:CST
DTSTART:20291104T070000
END:STANDARD
END:VTIMEZONE
BEGIN:VEVENT
DTSTART;TZID=America/Chicago:20261003T080000
DTEND;TZID=America/Chicago:20261003T170000
DTSTAMP:20260423T094811
CREATED:20260112T154617Z
LAST-MODIFIED:20260112T154722Z
UID:10000281-1791014400-1791046800@bristolranges.com
SUMMARY:Military Classic Bolt Action Rifle Match 2026
DESCRIPTION:Military bolt action rifles only. Four stages using 200-yard SR5 targets. \n\n\n\nStage 1-Slow Prone 10 shots in 10 minutes/ Stage 2-Rapid Prone 10 shots in 70 seconds/ \n\n\n\nStage 3-Rapid Sitting 10 shots in 80 seconds/ Stage 4-Offhand 10 shots in 10 minutes. \n\n\n\nMatch Fees: Adults $15.00\, Juniors $5.00
URL:https://bristolranges.com/event/military-classic-bolt-action-rifle-match-2026/
LOCATION:CCKC Rifle Range\, 21001 85th St\, Bristol\, WI\, 53104\, United States
CATEGORIES:High Power Rifle
ATTACH;FMTTYPE=image/jpeg:https://bristolranges.com/wp-content/uploads/2024/03/Rifle-range-High-Power-2_crop.jpg
END:VEVENT
BEGIN:VEVENT
DTSTART;TZID=America/Chicago:20261007T180000
DTEND;TZID=America/Chicago:20261007T210000
DTSTAMP:20260423T094811
CREATED:20260112T133725Z
LAST-MODIFIED:20260112T133728Z
UID:10000261-1791396000-1791406800@bristolranges.com
SUMMARY:Action Steel Competitive Shooting Match October 7 2026
DESCRIPTION:If you would like to learn how to shoot in competition\, please join us for an exciting 2025 Action Pistol season. We draw a wide range of competitors\, from beginners to seasoned veterans and everyone has a good time. \n\n\n\nOur matches begin at 6:00 PM at the CCKC Rifle Range. NOTE: Registration will close at 6:15PM for safety reasons – you must attend the walkthrough to shoot. \n\n\n\nEach match is an individual competition so join us for whichever match date you can make. The only person you are competing against is yourself. \n\n\n\n\n\n\n\n\n\n\nThe match fees are $15 for CCKC members and $20 for non-members. \n\n\n\nWe run about 4 stages a night and all matches are on WEDNESDAY EVENINGS. \n\n\n\nThese matches challenge you to knock down steel targets. \n\n\n\nYou can shoot this match with a handgun\, a shotgun\, a pistol caliber rifle or a combination thereof. Bring a minimum of 50 shot shells (#6 LEAD shot or smaller) and/or a minimum of 100 rounds of pistol ammunition (no magnum loads) with you. \n\n\n\nSee how well you can engage these steel targets!
URL:https://bristolranges.com/event/action-steel-competitive-shooting-match-october-7-2026/
LOCATION:CCKC Rifle Range\, 21001 85th St\, Bristol\, WI\, 53104\, United States
CATEGORIES:Action Pistol
ATTACH;FMTTYPE=image/jpeg:https://bristolranges.com/wp-content/uploads/2024/03/action-pistol-range.jpg
END:VEVENT
BEGIN:VEVENT
DTSTART;TZID=America/Chicago:20261010T084500
DTEND;TZID=America/Chicago:20261010T120000
DTSTAMP:20260423T094811
CREATED:20260204T143323Z
LAST-MODIFIED:20260204T163722Z
UID:10000301-1791621900-1791633600@bristolranges.com
SUMMARY:Bristol Plains Pistoleros Shoot October 2026
DESCRIPTION:Try your hand at one of the fastest growing Shooting Sports around. \n\n\n\nThe CCKC proudly sponsors a Cowboy Action Shooting Club. \n\n\n\nThe Bristol Plains Pistoleros is affiliated with the Single Action Shooting Society (SASS). Where else could you be Wyatt Earp at the OK Corral\, Rooster Cogburn in True Grit or many other fascinating historical characters from the Old West?
URL:https://bristolranges.com/event/bristol-plains-pistoleros-shoot-october-2026/2026-10-10/
LOCATION:WI
CATEGORIES:Cowboy
ATTACH;FMTTYPE=image/jpeg:https://bristolranges.com/wp-content/uploads/2024/03/cowboy.jpg
END:VEVENT
BEGIN:VEVENT
DTSTART;TZID=America/Chicago:20261011T080000
DTEND;TZID=America/Chicago:20261011T170000
DTSTAMP:20260423T094811
CREATED:20260112T151058Z
LAST-MODIFIED:20260112T152355Z
UID:10000275-1791705600-1791738000@bristolranges.com
SUMMARY:NRA High Power Rifle Matches October 11 2026
DESCRIPTION:NRA approved. NRA rules apply and match scores are submitted to the NRA. \n\n\n\n200 yards\, 52 Rounds\, 4 stages / 3 positions (any rifle\, any sights) \n\n\n\nScores will be grouped by rifle style (service I match) & sight type (iron/ glass) \n\n\n\nMatch Fees: Adults $20.00\, Juniors: $10.00
URL:https://bristolranges.com/event/nra-high-power-rifle-matches-october-11-2026/
LOCATION:CCKC Rifle Range\, 21001 85th St\, Bristol\, WI\, 53104\, United States
CATEGORIES:High Power Rifle
ATTACH;FMTTYPE=image/jpeg:https://bristolranges.com/wp-content/uploads/2024/03/Rifle-range-High-Power-2_crop.jpg
END:VEVENT
BEGIN:VEVENT
DTSTART;TZID=America/Chicago:20261011T084500
DTEND;TZID=America/Chicago:20261011T120000
DTSTAMP:20260423T094811
CREATED:20260204T143323Z
LAST-MODIFIED:20260204T163722Z
UID:10000302-1791708300-1791720000@bristolranges.com
SUMMARY:Bristol Plains Pistoleros Shoot October 2026
DESCRIPTION:Try your hand at one of the fastest growing Shooting Sports around. \n\n\n\nThe CCKC proudly sponsors a Cowboy Action Shooting Club. \n\n\n\nThe Bristol Plains Pistoleros is affiliated with the Single Action Shooting Society (SASS). Where else could you be Wyatt Earp at the OK Corral\, Rooster Cogburn in True Grit or many other fascinating historical characters from the Old West?
URL:https://bristolranges.com/event/bristol-plains-pistoleros-shoot-october-2026/2026-10-11/
LOCATION:WI
CATEGORIES:Cowboy
ATTACH;FMTTYPE=image/jpeg:https://bristolranges.com/wp-content/uploads/2024/03/cowboy.jpg
END:VEVENT
BEGIN:VEVENT
DTSTART;TZID=America/Chicago:20261012T190000
DTEND;TZID=America/Chicago:20261012T200000
DTSTAMP:20260423T094811
CREATED:20250714T201141Z
LAST-MODIFIED:20250714T202127Z
UID:10000193-1791831600-1791835200@bristolranges.com
SUMMARY:Board Meeting
DESCRIPTION:The CCKC Board of Directors will meet the second Monday of every month at 7:00pm.
URL:https://bristolranges.com/event/board-meeting/2026-10-12/
LOCATION:CCKC Clubhouse\, 21001 85th St\, Bristol\, WI\, 53104\, United States
CATEGORIES:Meetings
ATTACH;FMTTYPE=image/png:https://bristolranges.com/wp-content/uploads/2024/03/Bristol-Shooting-Range-1.png
END:VEVENT
BEGIN:VEVENT
DTSTART;TZID=America/Chicago:20261021T180000
DTEND;TZID=America/Chicago:20261021T210000
DTSTAMP:20260423T094811
CREATED:20260112T132815Z
LAST-MODIFIED:20260112T132848Z
UID:10000258-1792605600-1792616400@bristolranges.com
SUMMARY:Action Pistol Match Halloween 2026
DESCRIPTION:If you would like to learn how to shoot in competition\, please join us for an exciting 2025 Action Pistol season. We draw a wide range of competitors\, from beginners to seasoned veterans and everyone has a good time. \n\n\n\nOur matches begin at 6:00 PM at the CCKC Rifle Range. NOTE: Registration will close at 6:15PM for safety reasons – you must attend the walkthrough to shoot. \n\n\n\nEach match is an individual competition so join us for whichever match date you can make. The only person you are competing against is yourself. \n\n\n\n\n\n\n\n\n\n\nThe match fees are $15 for CCKC members and $20 for non-members. \n\n\n\nWe run about 4 stages a night and all matches are on WEDNESDAY EVENINGS. \n\n\n\nThe Action Pistol matches are an introduction to the sport of USPSA competitive shooting. \n\n\n\nWe follow safe gun handling principles to help you improve your handgun skills. You will shoot timed match scenarios that require you to move and engage a wide range of reactive and static targets. \n\n\n\nMost participants shoot stock factory semi-auto handguns or pistol caliber rifle. \n\n\n\nPlease bring a small firearm case\, belt holster\, four magazines\, and a minimum of 100 rounds of ammunition (no magnum loads). \n\n\n\nFrom May through September the first match of the month will be .22LR neutral – meaning you can break out your .22 pistol or rifle and shoot the entire match.
URL:https://bristolranges.com/event/action-pistol-match-halloween-2026/
LOCATION:CCKC Rifle Range\, 21001 85th St\, Bristol\, WI\, 53104\, United States
CATEGORIES:Action Pistol
ATTACH;FMTTYPE=image/jpeg:https://bristolranges.com/wp-content/uploads/2024/03/action-pistol-range.jpg
END:VEVENT
BEGIN:VEVENT
DTSTART;TZID=America/Chicago:20261109T190000
DTEND;TZID=America/Chicago:20261109T200000
DTSTAMP:20260423T094811
CREATED:20250714T201141Z
LAST-MODIFIED:20250714T202127Z
UID:10000194-1794250800-1794254400@bristolranges.com
SUMMARY:Board Meeting
DESCRIPTION:The CCKC Board of Directors will meet the second Monday of every month at 7:00pm.
URL:https://bristolranges.com/event/board-meeting/2026-11-09/
LOCATION:CCKC Clubhouse\, 21001 85th St\, Bristol\, WI\, 53104\, United States
CATEGORIES:Meetings
ATTACH;FMTTYPE=image/png:https://bristolranges.com/wp-content/uploads/2024/03/Bristol-Shooting-Range-1.png
END:VEVENT
BEGIN:VEVENT
DTSTART;TZID=America/Chicago:20261114T084500
DTEND;TZID=America/Chicago:20261114T120000
DTSTAMP:20260423T094811
CREATED:20260204T143532Z
LAST-MODIFIED:20260204T163710Z
UID:10000303-1794645900-1794657600@bristolranges.com
SUMMARY:Bristol Plains Pistoleros Shoot November 2026
DESCRIPTION:Try your hand at one of the fastest growing Shooting Sports around. \n\n\n\nThe CCKC proudly sponsors a Cowboy Action Shooting Club. \n\n\n\nThe Bristol Plains Pistoleros is affiliated with the Single Action Shooting Society (SASS). Where else could you be Wyatt Earp at the OK Corral\, Rooster Cogburn in True Grit or many other fascinating historical characters from the Old West?
URL:https://bristolranges.com/event/bristol-plains-pistoleros-shoot-november-2026/2026-11-14/
LOCATION:WI
CATEGORIES:Cowboy
ATTACH;FMTTYPE=image/jpeg:https://bristolranges.com/wp-content/uploads/2024/03/cowboy.jpg
END:VEVENT
BEGIN:VEVENT
DTSTART;TZID=America/Chicago:20261115T084500
DTEND;TZID=America/Chicago:20261115T120000
DTSTAMP:20260423T094811
CREATED:20260204T143532Z
LAST-MODIFIED:20260204T163710Z
UID:10000304-1794732300-1794744000@bristolranges.com
SUMMARY:Bristol Plains Pistoleros Shoot November 2026
DESCRIPTION:Try your hand at one of the fastest growing Shooting Sports around. \n\n\n\nThe CCKC proudly sponsors a Cowboy Action Shooting Club. \n\n\n\nThe Bristol Plains Pistoleros is affiliated with the Single Action Shooting Society (SASS). Where else could you be Wyatt Earp at the OK Corral\, Rooster Cogburn in True Grit or many other fascinating historical characters from the Old West?
URL:https://bristolranges.com/event/bristol-plains-pistoleros-shoot-november-2026/2026-11-15/
LOCATION:WI
CATEGORIES:Cowboy
ATTACH;FMTTYPE=image/jpeg:https://bristolranges.com/wp-content/uploads/2024/03/cowboy.jpg
END:VEVENT
BEGIN:VEVENT
DTSTART;TZID=America/Chicago:20261214T190000
DTEND;TZID=America/Chicago:20261214T200000
DTSTAMP:20260423T094811
CREATED:20250714T201141Z
LAST-MODIFIED:20250714T202127Z
UID:10000195-1797274800-1797278400@bristolranges.com
SUMMARY:Board Meeting
DESCRIPTION:The CCKC Board of Directors will meet the second Monday of every month at 7:00pm.
URL:https://bristolranges.com/event/board-meeting/2026-12-14/
LOCATION:CCKC Clubhouse\, 21001 85th St\, Bristol\, WI\, 53104\, United States
CATEGORIES:Meetings
ATTACH;FMTTYPE=image/png:https://bristolranges.com/wp-content/uploads/2024/03/Bristol-Shooting-Range-1.png
END:VEVENT
BEGIN:VEVENT
DTSTART;TZID=America/Chicago:20270111T190000
DTEND;TZID=America/Chicago:20270111T200000
DTSTAMP:20260423T094811
CREATED:20250714T201141Z
LAST-MODIFIED:20250714T202127Z
UID:10000196-1799694000-1799697600@bristolranges.com
SUMMARY:Board Meeting
DESCRIPTION:The CCKC Board of Directors will meet the second Monday of every month at 7:00pm.
URL:https://bristolranges.com/event/board-meeting/2027-01-11/
LOCATION:CCKC Clubhouse\, 21001 85th St\, Bristol\, WI\, 53104\, United States
CATEGORIES:Meetings
ATTACH;FMTTYPE=image/png:https://bristolranges.com/wp-content/uploads/2024/03/Bristol-Shooting-Range-1.png
END:VEVENT
BEGIN:VEVENT
DTSTART;TZID=America/Chicago:20270208T190000
DTEND;TZID=America/Chicago:20270208T200000
DTSTAMP:20260423T094811
CREATED:20250714T201141Z
LAST-MODIFIED:20250714T202127Z
UID:10000197-1802113200-1802116800@bristolranges.com
SUMMARY:Board Meeting
DESCRIPTION:The CCKC Board of Directors will meet the second Monday of every month at 7:00pm.
URL:https://bristolranges.com/event/board-meeting/2027-02-08/
LOCATION:CCKC Clubhouse\, 21001 85th St\, Bristol\, WI\, 53104\, United States
CATEGORIES:Meetings
ATTACH;FMTTYPE=image/png:https://bristolranges.com/wp-content/uploads/2024/03/Bristol-Shooting-Range-1.png
END:VEVENT
BEGIN:VEVENT
DTSTART;TZID=America/Chicago:20270308T190000
DTEND;TZID=America/Chicago:20270308T200000
DTSTAMP:20260423T094811
CREATED:20250714T201141Z
LAST-MODIFIED:20250714T202127Z
UID:10000198-1804532400-1804536000@bristolranges.com
SUMMARY:Board Meeting
DESCRIPTION:The CCKC Board of Directors will meet the second Monday of every month at 7:00pm.
URL:https://bristolranges.com/event/board-meeting/2027-03-08/
LOCATION:CCKC Clubhouse\, 21001 85th St\, Bristol\, WI\, 53104\, United States
CATEGORIES:Meetings
ATTACH;FMTTYPE=image/png:https://bristolranges.com/wp-content/uploads/2024/03/Bristol-Shooting-Range-1.png
END:VEVENT
BEGIN:VEVENT
DTSTART;TZID=America/Chicago:20270412T190000
DTEND;TZID=America/Chicago:20270412T200000
DTSTAMP:20260423T094811
CREATED:20250714T201141Z
LAST-MODIFIED:20250714T202127Z
UID:10000199-1807556400-1807560000@bristolranges.com
SUMMARY:Board Meeting
DESCRIPTION:The CCKC Board of Directors will meet the second Monday of every month at 7:00pm.
URL:https://bristolranges.com/event/board-meeting/2027-04-12/
LOCATION:CCKC Clubhouse\, 21001 85th St\, Bristol\, WI\, 53104\, United States
CATEGORIES:Meetings
ATTACH;FMTTYPE=image/png:https://bristolranges.com/wp-content/uploads/2024/03/Bristol-Shooting-Range-1.png
END:VEVENT
BEGIN:VEVENT
DTSTART;TZID=America/Chicago:20270510T190000
DTEND;TZID=America/Chicago:20270510T200000
DTSTAMP:20260423T094811
CREATED:20250714T201141Z
LAST-MODIFIED:20250714T202127Z
UID:10000200-1809975600-1809979200@bristolranges.com
SUMMARY:Board Meeting
DESCRIPTION:The CCKC Board of Directors will meet the second Monday of every month at 7:00pm.
URL:https://bristolranges.com/event/board-meeting/2027-05-10/
LOCATION:CCKC Clubhouse\, 21001 85th St\, Bristol\, WI\, 53104\, United States
CATEGORIES:Meetings
ATTACH;FMTTYPE=image/png:https://bristolranges.com/wp-content/uploads/2024/03/Bristol-Shooting-Range-1.png
END:VEVENT
BEGIN:VEVENT
DTSTART;TZID=America/Chicago:20270614T190000
DTEND;TZID=America/Chicago:20270614T200000
DTSTAMP:20260423T094811
CREATED:20250714T201141Z
LAST-MODIFIED:20250714T202127Z
UID:10000201-1812999600-1813003200@bristolranges.com
SUMMARY:Board Meeting
DESCRIPTION:The CCKC Board of Directors will meet the second Monday of every month at 7:00pm.
URL:https://bristolranges.com/event/board-meeting/2027-06-14/
LOCATION:CCKC Clubhouse\, 21001 85th St\, Bristol\, WI\, 53104\, United States
CATEGORIES:Meetings
ATTACH;FMTTYPE=image/png:https://bristolranges.com/wp-content/uploads/2024/03/Bristol-Shooting-Range-1.png
END:VEVENT
BEGIN:VEVENT
DTSTART;TZID=America/Chicago:20270615T193000
DTEND;TZID=America/Chicago:20270615T213000
DTSTAMP:20260423T094811
CREATED:20240412T142011Z
LAST-MODIFIED:20250714T202208Z
UID:10000241-1813087800-1813095000@bristolranges.com
SUMMARY:The CCKC Annual Meeting
DESCRIPTION:The CCKC Board of Directors will meet first at 6:30pm followed by the election. All club members are urged to attend.
URL:https://bristolranges.com/event/the-cckc-annual-meeting/2027-06-15/
LOCATION:CCKC Clubhouse\, 21001 85th St\, Bristol\, WI\, 53104\, United States
CATEGORIES:Meetings
END:VEVENT
BEGIN:VEVENT
DTSTART;TZID=America/Chicago:20270712T190000
DTEND;TZID=America/Chicago:20270712T200000
DTSTAMP:20260423T094811
CREATED:20250714T201141Z
LAST-MODIFIED:20250714T202127Z
UID:10000202-1815418800-1815422400@bristolranges.com
SUMMARY:Board Meeting
DESCRIPTION:The CCKC Board of Directors will meet the second Monday of every month at 7:00pm.
URL:https://bristolranges.com/event/board-meeting/2027-07-12/
LOCATION:CCKC Clubhouse\, 21001 85th St\, Bristol\, WI\, 53104\, United States
CATEGORIES:Meetings
ATTACH;FMTTYPE=image/png:https://bristolranges.com/wp-content/uploads/2024/03/Bristol-Shooting-Range-1.png
END:VEVENT
BEGIN:VEVENT
DTSTART;TZID=America/Chicago:20270809T190000
DTEND;TZID=America/Chicago:20270809T200000
DTSTAMP:20260423T094811
CREATED:20250714T201141Z
LAST-MODIFIED:20250714T202127Z
UID:10000203-1817838000-1817841600@bristolranges.com
SUMMARY:Board Meeting
DESCRIPTION:The CCKC Board of Directors will meet the second Monday of every month at 7:00pm.
URL:https://bristolranges.com/event/board-meeting/2027-08-09/
LOCATION:CCKC Clubhouse\, 21001 85th St\, Bristol\, WI\, 53104\, United States
CATEGORIES:Meetings
ATTACH;FMTTYPE=image/png:https://bristolranges.com/wp-content/uploads/2024/03/Bristol-Shooting-Range-1.png
END:VEVENT
BEGIN:VEVENT
DTSTART;TZID=America/Chicago:20270913T190000
DTEND;TZID=America/Chicago:20270913T200000
DTSTAMP:20260423T094811
CREATED:20250714T201141Z
LAST-MODIFIED:20250714T202127Z
UID:10000204-1820862000-1820865600@bristolranges.com
SUMMARY:Board Meeting
DESCRIPTION:The CCKC Board of Directors will meet the second Monday of every month at 7:00pm.
URL:https://bristolranges.com/event/board-meeting/2027-09-13/
LOCATION:CCKC Clubhouse\, 21001 85th St\, Bristol\, WI\, 53104\, United States
CATEGORIES:Meetings
ATTACH;FMTTYPE=image/png:https://bristolranges.com/wp-content/uploads/2024/03/Bristol-Shooting-Range-1.png
END:VEVENT
BEGIN:VEVENT
DTSTART;TZID=America/Chicago:20271011T190000
DTEND;TZID=America/Chicago:20271011T200000
DTSTAMP:20260423T094811
CREATED:20250714T201141Z
LAST-MODIFIED:20250714T202127Z
UID:10000205-1823281200-1823284800@bristolranges.com
SUMMARY:Board Meeting
DESCRIPTION:The CCKC Board of Directors will meet the second Monday of every month at 7:00pm.
URL:https://bristolranges.com/event/board-meeting/2027-10-11/
LOCATION:CCKC Clubhouse\, 21001 85th St\, Bristol\, WI\, 53104\, United States
CATEGORIES:Meetings
ATTACH;FMTTYPE=image/png:https://bristolranges.com/wp-content/uploads/2024/03/Bristol-Shooting-Range-1.png
END:VEVENT
BEGIN:VEVENT
DTSTART;TZID=America/Chicago:20271108T190000
DTEND;TZID=America/Chicago:20271108T200000
DTSTAMP:20260423T094811
CREATED:20250714T201141Z
LAST-MODIFIED:20250714T202127Z
UID:10000206-1825700400-1825704000@bristolranges.com
SUMMARY:Board Meeting
DESCRIPTION:The CCKC Board of Directors will meet the second Monday of every month at 7:00pm.
URL:https://bristolranges.com/event/board-meeting/2027-11-08/
LOCATION:CCKC Clubhouse\, 21001 85th St\, Bristol\, WI\, 53104\, United States
CATEGORIES:Meetings
ATTACH;FMTTYPE=image/png:https://bristolranges.com/wp-content/uploads/2024/03/Bristol-Shooting-Range-1.png
END:VEVENT
BEGIN:VEVENT
DTSTART;TZID=America/Chicago:20271213T190000
DTEND;TZID=America/Chicago:20271213T200000
DTSTAMP:20260423T094811
CREATED:20250714T201141Z
LAST-MODIFIED:20250714T202127Z
UID:10000207-1828724400-1828728000@bristolranges.com
SUMMARY:Board Meeting
DESCRIPTION:The CCKC Board of Directors will meet the second Monday of every month at 7:00pm.
URL:https://bristolranges.com/event/board-meeting/2027-12-13/
LOCATION:CCKC Clubhouse\, 21001 85th St\, Bristol\, WI\, 53104\, United States
CATEGORIES:Meetings
ATTACH;FMTTYPE=image/png:https://bristolranges.com/wp-content/uploads/2024/03/Bristol-Shooting-Range-1.png
END:VEVENT
BEGIN:VEVENT
DTSTART;TZID=America/Chicago:20280110T190000
DTEND;TZID=America/Chicago:20280110T200000
DTSTAMP:20260423T094811
CREATED:20250714T201141Z
LAST-MODIFIED:20250714T202127Z
UID:10000208-1831143600-1831147200@bristolranges.com
SUMMARY:Board Meeting
DESCRIPTION:The CCKC Board of Directors will meet the second Monday of every month at 7:00pm.
URL:https://bristolranges.com/event/board-meeting/2028-01-10/
LOCATION:CCKC Clubhouse\, 21001 85th St\, Bristol\, WI\, 53104\, United States
CATEGORIES:Meetings
ATTACH;FMTTYPE=image/png:https://bristolranges.com/wp-content/uploads/2024/03/Bristol-Shooting-Range-1.png
END:VEVENT
BEGIN:VEVENT
DTSTART;TZID=America/Chicago:20280214T190000
DTEND;TZID=America/Chicago:20280214T200000
DTSTAMP:20260423T094811
CREATED:20250714T201141Z
LAST-MODIFIED:20250714T202127Z
UID:10000209-1834167600-1834171200@bristolranges.com
SUMMARY:Board Meeting
DESCRIPTION:The CCKC Board of Directors will meet the second Monday of every month at 7:00pm.
URL:https://bristolranges.com/event/board-meeting/2028-02-14/
LOCATION:CCKC Clubhouse\, 21001 85th St\, Bristol\, WI\, 53104\, United States
CATEGORIES:Meetings
ATTACH;FMTTYPE=image/png:https://bristolranges.com/wp-content/uploads/2024/03/Bristol-Shooting-Range-1.png
END:VEVENT
BEGIN:VEVENT
DTSTART;TZID=America/Chicago:20280313T190000
DTEND;TZID=America/Chicago:20280313T200000
DTSTAMP:20260423T094811
CREATED:20250714T201141Z
LAST-MODIFIED:20250714T202127Z
UID:10000210-1836586800-1836590400@bristolranges.com
SUMMARY:Board Meeting
DESCRIPTION:The CCKC Board of Directors will meet the second Monday of every month at 7:00pm.
URL:https://bristolranges.com/event/board-meeting/2028-03-13/
LOCATION:CCKC Clubhouse\, 21001 85th St\, Bristol\, WI\, 53104\, United States
CATEGORIES:Meetings
ATTACH;FMTTYPE=image/png:https://bristolranges.com/wp-content/uploads/2024/03/Bristol-Shooting-Range-1.png
END:VEVENT
BEGIN:VEVENT
DTSTART;TZID=America/Chicago:20280410T190000
DTEND;TZID=America/Chicago:20280410T200000
DTSTAMP:20260423T094811
CREATED:20250714T201141Z
LAST-MODIFIED:20250714T202127Z
UID:10000211-1839006000-1839009600@bristolranges.com
SUMMARY:Board Meeting
DESCRIPTION:The CCKC Board of Directors will meet the second Monday of every month at 7:00pm.
URL:https://bristolranges.com/event/board-meeting/2028-04-10/
LOCATION:CCKC Clubhouse\, 21001 85th St\, Bristol\, WI\, 53104\, United States
CATEGORIES:Meetings
ATTACH;FMTTYPE=image/png:https://bristolranges.com/wp-content/uploads/2024/03/Bristol-Shooting-Range-1.png
END:VEVENT
BEGIN:VEVENT
DTSTART;TZID=America/Chicago:20280508T190000
DTEND;TZID=America/Chicago:20280508T200000
DTSTAMP:20260423T094811
CREATED:20250714T201141Z
LAST-MODIFIED:20250714T202127Z
UID:10000212-1841425200-1841428800@bristolranges.com
SUMMARY:Board Meeting
DESCRIPTION:The CCKC Board of Directors will meet the second Monday of every month at 7:00pm.
URL:https://bristolranges.com/event/board-meeting/2028-05-08/
LOCATION:CCKC Clubhouse\, 21001 85th St\, Bristol\, WI\, 53104\, United States
CATEGORIES:Meetings
ATTACH;FMTTYPE=image/png:https://bristolranges.com/wp-content/uploads/2024/03/Bristol-Shooting-Range-1.png
END:VEVENT
BEGIN:VEVENT
DTSTART;TZID=America/Chicago:20280612T190000
DTEND;TZID=America/Chicago:20280612T200000
DTSTAMP:20260423T094811
CREATED:20250714T201141Z
LAST-MODIFIED:20250714T202127Z
UID:10000213-1844449200-1844452800@bristolranges.com
SUMMARY:Board Meeting
DESCRIPTION:The CCKC Board of Directors will meet the second Monday of every month at 7:00pm.
URL:https://bristolranges.com/event/board-meeting/2028-06-12/
LOCATION:CCKC Clubhouse\, 21001 85th St\, Bristol\, WI\, 53104\, United States
CATEGORIES:Meetings
ATTACH;FMTTYPE=image/png:https://bristolranges.com/wp-content/uploads/2024/03/Bristol-Shooting-Range-1.png
END:VEVENT
END:VCALENDAR