BEGIN:VCALENDAR
VERSION:2.0
PRODID:-//Conservation Club of Kenosha County - ECPv6.15.15//NONSGML v1.0//EN
CALSCALE:GREGORIAN
METHOD:PUBLISH
X-WR-CALNAME:Conservation Club of Kenosha County
X-ORIGINAL-URL:https://bristolranges.com
X-WR-CALDESC:Events for Conservation Club of Kenosha County
REFRESH-INTERVAL;VALUE=DURATION:PT1H
X-Robots-Tag:noindex
X-PUBLISHED-TTL:PT1H
BEGIN:VTIMEZONE
TZID:America/Chicago
BEGIN:DAYLIGHT
TZOFFSETFROM:-0600
TZOFFSETTO:-0500
TZNAME:CDT
DTSTART:20230312T080000
END:DAYLIGHT
BEGIN:STANDARD
TZOFFSETFROM:-0500
TZOFFSETTO:-0600
TZNAME:CST
DTSTART:20231105T070000
END:STANDARD
BEGIN:DAYLIGHT
TZOFFSETFROM:-0600
TZOFFSETTO:-0500
TZNAME:CDT
DTSTART:20240310T080000
END:DAYLIGHT
BEGIN:STANDARD
TZOFFSETFROM:-0500
TZOFFSETTO:-0600
TZNAME:CST
DTSTART:20241103T070000
END:STANDARD
BEGIN:DAYLIGHT
TZOFFSETFROM:-0600
TZOFFSETTO:-0500
TZNAME:CDT
DTSTART:20250309T080000
END:DAYLIGHT
BEGIN:STANDARD
TZOFFSETFROM:-0500
TZOFFSETTO:-0600
TZNAME:CST
DTSTART:20251102T070000
END:STANDARD
END:VTIMEZONE
BEGIN:VEVENT
DTSTART;TZID=America/Chicago:20240403T180000
DTEND;TZID=America/Chicago:20240403T210000
DTSTAMP:20260425T113022
CREATED:20240325T121806Z
LAST-MODIFIED:20240325T122141Z
UID:10000023-1712167200-1712178000@bristolranges.com
SUMMARY:Action Steel Competitive Shooting Match
DESCRIPTION:If you would like to learn how to shoot in competition\, please join us for an exciting Action Pistol season. We draw a wide range of competitors\, from beginners to seasoned veterans and everyone has a good time. \nThese matches challenge you to knock down steel targets. \nYou can shoot this match with a handgun\, a shotgun\, a pistol caliber rifle or a combination thereof. Bring a minimum of 50 shot shells (#6 LEAD shot or smaller) and/or a minimum of 100 rounds of pistol ammunition (no magnum loads) with you. See how well you can engage these steel targets! \nNOTE: Registration will close at 6:15PM for safety reasons – you must attend the walk through to shoot. \nEach match is an individual competition so join us for whichever match date you can make. The only person you are competing against is yourself. \nThe match fees are $15 for CCKC members and $20 for nonmembers. \nWe run about 4 stages a night and all matches are on WEDNESDAY EVENINGS.
URL:https://bristolranges.com/event/action-steel-competitive-shooting-match/2024-04-03/
LOCATION:CCKC Rifle Range\, 21001 85th St\, Bristol\, WI\, 53104\, United States
CATEGORIES:Action Pistol
ATTACH;FMTTYPE=image/jpeg:https://bristolranges.com/wp-content/uploads/2024/03/action-pistol-range.jpg
END:VEVENT
END:VCALENDAR