BEGIN:VCALENDAR
VERSION:2.0
PRODID:-//Conservation Club of Kenosha County - ECPv6.15.15//NONSGML v1.0//EN
CALSCALE:GREGORIAN
METHOD:PUBLISH
X-ORIGINAL-URL:https://bristolranges.com
X-WR-CALDESC:Events for Conservation Club of Kenosha County
REFRESH-INTERVAL;VALUE=DURATION:PT1H
X-Robots-Tag:noindex
X-PUBLISHED-TTL:PT1H
BEGIN:VTIMEZONE
TZID:America/Chicago
BEGIN:DAYLIGHT
TZOFFSETFROM:-0600
TZOFFSETTO:-0500
TZNAME:CDT
DTSTART:20270314T080000
END:DAYLIGHT
BEGIN:STANDARD
TZOFFSETFROM:-0500
TZOFFSETTO:-0600
TZNAME:CST
DTSTART:20271107T070000
END:STANDARD
BEGIN:DAYLIGHT
TZOFFSETFROM:-0600
TZOFFSETTO:-0500
TZNAME:CDT
DTSTART:20280312T080000
END:DAYLIGHT
BEGIN:STANDARD
TZOFFSETFROM:-0500
TZOFFSETTO:-0600
TZNAME:CST
DTSTART:20281105T070000
END:STANDARD
BEGIN:DAYLIGHT
TZOFFSETFROM:-0600
TZOFFSETTO:-0500
TZNAME:CDT
DTSTART:20290311T080000
END:DAYLIGHT
BEGIN:STANDARD
TZOFFSETFROM:-0500
TZOFFSETTO:-0600
TZNAME:CST
DTSTART:20291104T070000
END:STANDARD
BEGIN:DAYLIGHT
TZOFFSETFROM:-0600
TZOFFSETTO:-0500
TZNAME:CDT
DTSTART:20300310T080000
END:DAYLIGHT
BEGIN:STANDARD
TZOFFSETFROM:-0500
TZOFFSETTO:-0600
TZNAME:CST
DTSTART:20301103T070000
END:STANDARD
BEGIN:DAYLIGHT
TZOFFSETFROM:-0600
TZOFFSETTO:-0500
TZNAME:CDT
DTSTART:20310309T080000
END:DAYLIGHT
BEGIN:STANDARD
TZOFFSETFROM:-0500
TZOFFSETTO:-0600
TZNAME:CST
DTSTART:20311102T070000
END:STANDARD
END:VTIMEZONE
BEGIN:VEVENT
DTSTART;TZID=America/Chicago:20280110T190000
DTEND;TZID=America/Chicago:20280110T200000
DTSTAMP:20260425T074542
CREATED:20250714T201141Z
LAST-MODIFIED:20250714T202127Z
UID:10000208-1831143600-1831147200@bristolranges.com
SUMMARY:Board Meeting
DESCRIPTION:The CCKC Board of Directors will meet the second Monday of every month at 7:00pm.
URL:https://bristolranges.com/event/board-meeting/2028-01-10/
LOCATION:CCKC Clubhouse\, 21001 85th St\, Bristol\, WI\, 53104\, United States
CATEGORIES:Meetings
ATTACH;FMTTYPE=image/png:https://bristolranges.com/wp-content/uploads/2024/03/Bristol-Shooting-Range-1.png
END:VEVENT
BEGIN:VEVENT
DTSTART;TZID=America/Chicago:20280214T190000
DTEND;TZID=America/Chicago:20280214T200000
DTSTAMP:20260425T074542
CREATED:20250714T201141Z
LAST-MODIFIED:20250714T202127Z
UID:10000209-1834167600-1834171200@bristolranges.com
SUMMARY:Board Meeting
DESCRIPTION:The CCKC Board of Directors will meet the second Monday of every month at 7:00pm.
URL:https://bristolranges.com/event/board-meeting/2028-02-14/
LOCATION:CCKC Clubhouse\, 21001 85th St\, Bristol\, WI\, 53104\, United States
CATEGORIES:Meetings
ATTACH;FMTTYPE=image/png:https://bristolranges.com/wp-content/uploads/2024/03/Bristol-Shooting-Range-1.png
END:VEVENT
BEGIN:VEVENT
DTSTART;TZID=America/Chicago:20280313T190000
DTEND;TZID=America/Chicago:20280313T200000
DTSTAMP:20260425T074542
CREATED:20250714T201141Z
LAST-MODIFIED:20250714T202127Z
UID:10000210-1836586800-1836590400@bristolranges.com
SUMMARY:Board Meeting
DESCRIPTION:The CCKC Board of Directors will meet the second Monday of every month at 7:00pm.
URL:https://bristolranges.com/event/board-meeting/2028-03-13/
LOCATION:CCKC Clubhouse\, 21001 85th St\, Bristol\, WI\, 53104\, United States
CATEGORIES:Meetings
ATTACH;FMTTYPE=image/png:https://bristolranges.com/wp-content/uploads/2024/03/Bristol-Shooting-Range-1.png
END:VEVENT
BEGIN:VEVENT
DTSTART;TZID=America/Chicago:20280410T190000
DTEND;TZID=America/Chicago:20280410T200000
DTSTAMP:20260425T074542
CREATED:20250714T201141Z
LAST-MODIFIED:20250714T202127Z
UID:10000211-1839006000-1839009600@bristolranges.com
SUMMARY:Board Meeting
DESCRIPTION:The CCKC Board of Directors will meet the second Monday of every month at 7:00pm.
URL:https://bristolranges.com/event/board-meeting/2028-04-10/
LOCATION:CCKC Clubhouse\, 21001 85th St\, Bristol\, WI\, 53104\, United States
CATEGORIES:Meetings
ATTACH;FMTTYPE=image/png:https://bristolranges.com/wp-content/uploads/2024/03/Bristol-Shooting-Range-1.png
END:VEVENT
BEGIN:VEVENT
DTSTART;TZID=America/Chicago:20280508T190000
DTEND;TZID=America/Chicago:20280508T200000
DTSTAMP:20260425T074542
CREATED:20250714T201141Z
LAST-MODIFIED:20250714T202127Z
UID:10000212-1841425200-1841428800@bristolranges.com
SUMMARY:Board Meeting
DESCRIPTION:The CCKC Board of Directors will meet the second Monday of every month at 7:00pm.
URL:https://bristolranges.com/event/board-meeting/2028-05-08/
LOCATION:CCKC Clubhouse\, 21001 85th St\, Bristol\, WI\, 53104\, United States
CATEGORIES:Meetings
ATTACH;FMTTYPE=image/png:https://bristolranges.com/wp-content/uploads/2024/03/Bristol-Shooting-Range-1.png
END:VEVENT
BEGIN:VEVENT
DTSTART;TZID=America/Chicago:20280612T190000
DTEND;TZID=America/Chicago:20280612T200000
DTSTAMP:20260425T074542
CREATED:20250714T201141Z
LAST-MODIFIED:20250714T202127Z
UID:10000213-1844449200-1844452800@bristolranges.com
SUMMARY:Board Meeting
DESCRIPTION:The CCKC Board of Directors will meet the second Monday of every month at 7:00pm.
URL:https://bristolranges.com/event/board-meeting/2028-06-12/
LOCATION:CCKC Clubhouse\, 21001 85th St\, Bristol\, WI\, 53104\, United States
CATEGORIES:Meetings
ATTACH;FMTTYPE=image/png:https://bristolranges.com/wp-content/uploads/2024/03/Bristol-Shooting-Range-1.png
END:VEVENT
BEGIN:VEVENT
DTSTART;TZID=America/Chicago:20280620T193000
DTEND;TZID=America/Chicago:20280620T213000
DTSTAMP:20260425T074542
CREATED:20240412T142011Z
LAST-MODIFIED:20250714T202208Z
UID:10000242-1845142200-1845149400@bristolranges.com
SUMMARY:The CCKC Annual Meeting
DESCRIPTION:The CCKC Board of Directors will meet first at 6:30pm followed by the election. All club members are urged to attend.
URL:https://bristolranges.com/event/the-cckc-annual-meeting/2028-06-20/
LOCATION:CCKC Clubhouse\, 21001 85th St\, Bristol\, WI\, 53104\, United States
CATEGORIES:Meetings
END:VEVENT
BEGIN:VEVENT
DTSTART;TZID=America/Chicago:20280710T190000
DTEND;TZID=America/Chicago:20280710T200000
DTSTAMP:20260425T074542
CREATED:20250714T201141Z
LAST-MODIFIED:20250714T202127Z
UID:10000214-1846868400-1846872000@bristolranges.com
SUMMARY:Board Meeting
DESCRIPTION:The CCKC Board of Directors will meet the second Monday of every month at 7:00pm.
URL:https://bristolranges.com/event/board-meeting/2028-07-10/
LOCATION:CCKC Clubhouse\, 21001 85th St\, Bristol\, WI\, 53104\, United States
CATEGORIES:Meetings
ATTACH;FMTTYPE=image/png:https://bristolranges.com/wp-content/uploads/2024/03/Bristol-Shooting-Range-1.png
END:VEVENT
BEGIN:VEVENT
DTSTART;TZID=America/Chicago:20280814T190000
DTEND;TZID=America/Chicago:20280814T200000
DTSTAMP:20260425T074542
CREATED:20250714T201141Z
LAST-MODIFIED:20250714T202127Z
UID:10000215-1849892400-1849896000@bristolranges.com
SUMMARY:Board Meeting
DESCRIPTION:The CCKC Board of Directors will meet the second Monday of every month at 7:00pm.
URL:https://bristolranges.com/event/board-meeting/2028-08-14/
LOCATION:CCKC Clubhouse\, 21001 85th St\, Bristol\, WI\, 53104\, United States
CATEGORIES:Meetings
ATTACH;FMTTYPE=image/png:https://bristolranges.com/wp-content/uploads/2024/03/Bristol-Shooting-Range-1.png
END:VEVENT
BEGIN:VEVENT
DTSTART;TZID=America/Chicago:20280911T190000
DTEND;TZID=America/Chicago:20280911T200000
DTSTAMP:20260425T074542
CREATED:20250714T201141Z
LAST-MODIFIED:20250714T202127Z
UID:10000216-1852311600-1852315200@bristolranges.com
SUMMARY:Board Meeting
DESCRIPTION:The CCKC Board of Directors will meet the second Monday of every month at 7:00pm.
URL:https://bristolranges.com/event/board-meeting/2028-09-11/
LOCATION:CCKC Clubhouse\, 21001 85th St\, Bristol\, WI\, 53104\, United States
CATEGORIES:Meetings
ATTACH;FMTTYPE=image/png:https://bristolranges.com/wp-content/uploads/2024/03/Bristol-Shooting-Range-1.png
END:VEVENT
BEGIN:VEVENT
DTSTART;TZID=America/Chicago:20281009T190000
DTEND;TZID=America/Chicago:20281009T200000
DTSTAMP:20260425T074542
CREATED:20250714T201141Z
LAST-MODIFIED:20250714T202127Z
UID:10000217-1854730800-1854734400@bristolranges.com
SUMMARY:Board Meeting
DESCRIPTION:The CCKC Board of Directors will meet the second Monday of every month at 7:00pm.
URL:https://bristolranges.com/event/board-meeting/2028-10-09/
LOCATION:CCKC Clubhouse\, 21001 85th St\, Bristol\, WI\, 53104\, United States
CATEGORIES:Meetings
ATTACH;FMTTYPE=image/png:https://bristolranges.com/wp-content/uploads/2024/03/Bristol-Shooting-Range-1.png
END:VEVENT
BEGIN:VEVENT
DTSTART;TZID=America/Chicago:20281113T190000
DTEND;TZID=America/Chicago:20281113T200000
DTSTAMP:20260425T074542
CREATED:20250714T201141Z
LAST-MODIFIED:20250714T202127Z
UID:10000218-1857754800-1857758400@bristolranges.com
SUMMARY:Board Meeting
DESCRIPTION:The CCKC Board of Directors will meet the second Monday of every month at 7:00pm.
URL:https://bristolranges.com/event/board-meeting/2028-11-13/
LOCATION:CCKC Clubhouse\, 21001 85th St\, Bristol\, WI\, 53104\, United States
CATEGORIES:Meetings
ATTACH;FMTTYPE=image/png:https://bristolranges.com/wp-content/uploads/2024/03/Bristol-Shooting-Range-1.png
END:VEVENT
BEGIN:VEVENT
DTSTART;TZID=America/Chicago:20281211T190000
DTEND;TZID=America/Chicago:20281211T200000
DTSTAMP:20260425T074542
CREATED:20250714T201141Z
LAST-MODIFIED:20250714T202127Z
UID:10000219-1860174000-1860177600@bristolranges.com
SUMMARY:Board Meeting
DESCRIPTION:The CCKC Board of Directors will meet the second Monday of every month at 7:00pm.
URL:https://bristolranges.com/event/board-meeting/2028-12-11/
LOCATION:CCKC Clubhouse\, 21001 85th St\, Bristol\, WI\, 53104\, United States
CATEGORIES:Meetings
ATTACH;FMTTYPE=image/png:https://bristolranges.com/wp-content/uploads/2024/03/Bristol-Shooting-Range-1.png
END:VEVENT
BEGIN:VEVENT
DTSTART;TZID=America/Chicago:20290108T190000
DTEND;TZID=America/Chicago:20290108T200000
DTSTAMP:20260425T074542
CREATED:20250714T201141Z
LAST-MODIFIED:20250714T202127Z
UID:10000220-1862593200-1862596800@bristolranges.com
SUMMARY:Board Meeting
DESCRIPTION:The CCKC Board of Directors will meet the second Monday of every month at 7:00pm.
URL:https://bristolranges.com/event/board-meeting/2029-01-08/
LOCATION:CCKC Clubhouse\, 21001 85th St\, Bristol\, WI\, 53104\, United States
CATEGORIES:Meetings
ATTACH;FMTTYPE=image/png:https://bristolranges.com/wp-content/uploads/2024/03/Bristol-Shooting-Range-1.png
END:VEVENT
BEGIN:VEVENT
DTSTART;TZID=America/Chicago:20290212T190000
DTEND;TZID=America/Chicago:20290212T200000
DTSTAMP:20260425T074542
CREATED:20250714T201141Z
LAST-MODIFIED:20250714T202127Z
UID:10000221-1865617200-1865620800@bristolranges.com
SUMMARY:Board Meeting
DESCRIPTION:The CCKC Board of Directors will meet the second Monday of every month at 7:00pm.
URL:https://bristolranges.com/event/board-meeting/2029-02-12/
LOCATION:CCKC Clubhouse\, 21001 85th St\, Bristol\, WI\, 53104\, United States
CATEGORIES:Meetings
ATTACH;FMTTYPE=image/png:https://bristolranges.com/wp-content/uploads/2024/03/Bristol-Shooting-Range-1.png
END:VEVENT
BEGIN:VEVENT
DTSTART;TZID=America/Chicago:20290312T190000
DTEND;TZID=America/Chicago:20290312T200000
DTSTAMP:20260425T074542
CREATED:20250714T201141Z
LAST-MODIFIED:20250714T202127Z
UID:10000222-1868036400-1868040000@bristolranges.com
SUMMARY:Board Meeting
DESCRIPTION:The CCKC Board of Directors will meet the second Monday of every month at 7:00pm.
URL:https://bristolranges.com/event/board-meeting/2029-03-12/
LOCATION:CCKC Clubhouse\, 21001 85th St\, Bristol\, WI\, 53104\, United States
CATEGORIES:Meetings
ATTACH;FMTTYPE=image/png:https://bristolranges.com/wp-content/uploads/2024/03/Bristol-Shooting-Range-1.png
END:VEVENT
BEGIN:VEVENT
DTSTART;TZID=America/Chicago:20290409T190000
DTEND;TZID=America/Chicago:20290409T200000
DTSTAMP:20260425T074542
CREATED:20250714T201141Z
LAST-MODIFIED:20250714T202127Z
UID:10000223-1870455600-1870459200@bristolranges.com
SUMMARY:Board Meeting
DESCRIPTION:The CCKC Board of Directors will meet the second Monday of every month at 7:00pm.
URL:https://bristolranges.com/event/board-meeting/2029-04-09/
LOCATION:CCKC Clubhouse\, 21001 85th St\, Bristol\, WI\, 53104\, United States
CATEGORIES:Meetings
ATTACH;FMTTYPE=image/png:https://bristolranges.com/wp-content/uploads/2024/03/Bristol-Shooting-Range-1.png
END:VEVENT
BEGIN:VEVENT
DTSTART;TZID=America/Chicago:20290514T190000
DTEND;TZID=America/Chicago:20290514T200000
DTSTAMP:20260425T074542
CREATED:20250714T201141Z
LAST-MODIFIED:20250714T202127Z
UID:10000224-1873479600-1873483200@bristolranges.com
SUMMARY:Board Meeting
DESCRIPTION:The CCKC Board of Directors will meet the second Monday of every month at 7:00pm.
URL:https://bristolranges.com/event/board-meeting/2029-05-14/
LOCATION:CCKC Clubhouse\, 21001 85th St\, Bristol\, WI\, 53104\, United States
CATEGORIES:Meetings
ATTACH;FMTTYPE=image/png:https://bristolranges.com/wp-content/uploads/2024/03/Bristol-Shooting-Range-1.png
END:VEVENT
BEGIN:VEVENT
DTSTART;TZID=America/Chicago:20290611T190000
DTEND;TZID=America/Chicago:20290611T200000
DTSTAMP:20260425T074542
CREATED:20250714T201141Z
LAST-MODIFIED:20250714T202127Z
UID:10000225-1875898800-1875902400@bristolranges.com
SUMMARY:Board Meeting
DESCRIPTION:The CCKC Board of Directors will meet the second Monday of every month at 7:00pm.
URL:https://bristolranges.com/event/board-meeting/2029-06-11/
LOCATION:CCKC Clubhouse\, 21001 85th St\, Bristol\, WI\, 53104\, United States
CATEGORIES:Meetings
ATTACH;FMTTYPE=image/png:https://bristolranges.com/wp-content/uploads/2024/03/Bristol-Shooting-Range-1.png
END:VEVENT
BEGIN:VEVENT
DTSTART;TZID=America/Chicago:20290619T193000
DTEND;TZID=America/Chicago:20290619T213000
DTSTAMP:20260425T074542
CREATED:20240412T142011Z
LAST-MODIFIED:20250714T202208Z
UID:10000243-1876591800-1876599000@bristolranges.com
SUMMARY:The CCKC Annual Meeting
DESCRIPTION:The CCKC Board of Directors will meet first at 6:30pm followed by the election. All club members are urged to attend.
URL:https://bristolranges.com/event/the-cckc-annual-meeting/2029-06-19/
LOCATION:CCKC Clubhouse\, 21001 85th St\, Bristol\, WI\, 53104\, United States
CATEGORIES:Meetings
END:VEVENT
BEGIN:VEVENT
DTSTART;TZID=America/Chicago:20290709T190000
DTEND;TZID=America/Chicago:20290709T200000
DTSTAMP:20260425T074542
CREATED:20250714T201141Z
LAST-MODIFIED:20250714T202127Z
UID:10000226-1878318000-1878321600@bristolranges.com
SUMMARY:Board Meeting
DESCRIPTION:The CCKC Board of Directors will meet the second Monday of every month at 7:00pm.
URL:https://bristolranges.com/event/board-meeting/2029-07-09/
LOCATION:CCKC Clubhouse\, 21001 85th St\, Bristol\, WI\, 53104\, United States
CATEGORIES:Meetings
ATTACH;FMTTYPE=image/png:https://bristolranges.com/wp-content/uploads/2024/03/Bristol-Shooting-Range-1.png
END:VEVENT
BEGIN:VEVENT
DTSTART;TZID=America/Chicago:20290813T190000
DTEND;TZID=America/Chicago:20290813T200000
DTSTAMP:20260425T074542
CREATED:20250714T201141Z
LAST-MODIFIED:20250714T202127Z
UID:10000227-1881342000-1881345600@bristolranges.com
SUMMARY:Board Meeting
DESCRIPTION:The CCKC Board of Directors will meet the second Monday of every month at 7:00pm.
URL:https://bristolranges.com/event/board-meeting/2029-08-13/
LOCATION:CCKC Clubhouse\, 21001 85th St\, Bristol\, WI\, 53104\, United States
CATEGORIES:Meetings
ATTACH;FMTTYPE=image/png:https://bristolranges.com/wp-content/uploads/2024/03/Bristol-Shooting-Range-1.png
END:VEVENT
BEGIN:VEVENT
DTSTART;TZID=America/Chicago:20290910T190000
DTEND;TZID=America/Chicago:20290910T200000
DTSTAMP:20260425T074542
CREATED:20250714T201141Z
LAST-MODIFIED:20250714T202127Z
UID:10000228-1883761200-1883764800@bristolranges.com
SUMMARY:Board Meeting
DESCRIPTION:The CCKC Board of Directors will meet the second Monday of every month at 7:00pm.
URL:https://bristolranges.com/event/board-meeting/2029-09-10/
LOCATION:CCKC Clubhouse\, 21001 85th St\, Bristol\, WI\, 53104\, United States
CATEGORIES:Meetings
ATTACH;FMTTYPE=image/png:https://bristolranges.com/wp-content/uploads/2024/03/Bristol-Shooting-Range-1.png
END:VEVENT
BEGIN:VEVENT
DTSTART;TZID=America/Chicago:20291008T190000
DTEND;TZID=America/Chicago:20291008T200000
DTSTAMP:20260425T074542
CREATED:20250714T201141Z
LAST-MODIFIED:20250714T202127Z
UID:10000229-1886180400-1886184000@bristolranges.com
SUMMARY:Board Meeting
DESCRIPTION:The CCKC Board of Directors will meet the second Monday of every month at 7:00pm.
URL:https://bristolranges.com/event/board-meeting/2029-10-08/
LOCATION:CCKC Clubhouse\, 21001 85th St\, Bristol\, WI\, 53104\, United States
CATEGORIES:Meetings
ATTACH;FMTTYPE=image/png:https://bristolranges.com/wp-content/uploads/2024/03/Bristol-Shooting-Range-1.png
END:VEVENT
BEGIN:VEVENT
DTSTART;TZID=America/Chicago:20291112T190000
DTEND;TZID=America/Chicago:20291112T200000
DTSTAMP:20260425T074542
CREATED:20250714T201141Z
LAST-MODIFIED:20250714T202127Z
UID:10000230-1889204400-1889208000@bristolranges.com
SUMMARY:Board Meeting
DESCRIPTION:The CCKC Board of Directors will meet the second Monday of every month at 7:00pm.
URL:https://bristolranges.com/event/board-meeting/2029-11-12/
LOCATION:CCKC Clubhouse\, 21001 85th St\, Bristol\, WI\, 53104\, United States
CATEGORIES:Meetings
ATTACH;FMTTYPE=image/png:https://bristolranges.com/wp-content/uploads/2024/03/Bristol-Shooting-Range-1.png
END:VEVENT
BEGIN:VEVENT
DTSTART;TZID=America/Chicago:20291210T190000
DTEND;TZID=America/Chicago:20291210T200000
DTSTAMP:20260425T074542
CREATED:20250714T201141Z
LAST-MODIFIED:20250714T202127Z
UID:10000231-1891623600-1891627200@bristolranges.com
SUMMARY:Board Meeting
DESCRIPTION:The CCKC Board of Directors will meet the second Monday of every month at 7:00pm.
URL:https://bristolranges.com/event/board-meeting/2029-12-10/
LOCATION:CCKC Clubhouse\, 21001 85th St\, Bristol\, WI\, 53104\, United States
CATEGORIES:Meetings
ATTACH;FMTTYPE=image/png:https://bristolranges.com/wp-content/uploads/2024/03/Bristol-Shooting-Range-1.png
END:VEVENT
BEGIN:VEVENT
DTSTART;TZID=America/Chicago:20300114T190000
DTEND;TZID=America/Chicago:20300114T200000
DTSTAMP:20260425T074542
CREATED:20250714T201141Z
LAST-MODIFIED:20250714T202127Z
UID:10000232-1894647600-1894651200@bristolranges.com
SUMMARY:Board Meeting
DESCRIPTION:The CCKC Board of Directors will meet the second Monday of every month at 7:00pm.
URL:https://bristolranges.com/event/board-meeting/2030-01-14/
LOCATION:CCKC Clubhouse\, 21001 85th St\, Bristol\, WI\, 53104\, United States
CATEGORIES:Meetings
ATTACH;FMTTYPE=image/png:https://bristolranges.com/wp-content/uploads/2024/03/Bristol-Shooting-Range-1.png
END:VEVENT
BEGIN:VEVENT
DTSTART;TZID=America/Chicago:20300211T190000
DTEND;TZID=America/Chicago:20300211T200000
DTSTAMP:20260425T074542
CREATED:20250714T201141Z
LAST-MODIFIED:20250714T202127Z
UID:10000233-1897066800-1897070400@bristolranges.com
SUMMARY:Board Meeting
DESCRIPTION:The CCKC Board of Directors will meet the second Monday of every month at 7:00pm.
URL:https://bristolranges.com/event/board-meeting/2030-02-11/
LOCATION:CCKC Clubhouse\, 21001 85th St\, Bristol\, WI\, 53104\, United States
CATEGORIES:Meetings
ATTACH;FMTTYPE=image/png:https://bristolranges.com/wp-content/uploads/2024/03/Bristol-Shooting-Range-1.png
END:VEVENT
BEGIN:VEVENT
DTSTART;TZID=America/Chicago:20300311T190000
DTEND;TZID=America/Chicago:20300311T200000
DTSTAMP:20260425T074542
CREATED:20250714T201141Z
LAST-MODIFIED:20250714T202127Z
UID:10000234-1899486000-1899489600@bristolranges.com
SUMMARY:Board Meeting
DESCRIPTION:The CCKC Board of Directors will meet the second Monday of every month at 7:00pm.
URL:https://bristolranges.com/event/board-meeting/2030-03-11/
LOCATION:CCKC Clubhouse\, 21001 85th St\, Bristol\, WI\, 53104\, United States
CATEGORIES:Meetings
ATTACH;FMTTYPE=image/png:https://bristolranges.com/wp-content/uploads/2024/03/Bristol-Shooting-Range-1.png
END:VEVENT
BEGIN:VEVENT
DTSTART;TZID=America/Chicago:20300408T190000
DTEND;TZID=America/Chicago:20300408T200000
DTSTAMP:20260425T074542
CREATED:20250714T201141Z
LAST-MODIFIED:20250714T202127Z
UID:10000235-1901905200-1901908800@bristolranges.com
SUMMARY:Board Meeting
DESCRIPTION:The CCKC Board of Directors will meet the second Monday of every month at 7:00pm.
URL:https://bristolranges.com/event/board-meeting/2030-04-08/
LOCATION:CCKC Clubhouse\, 21001 85th St\, Bristol\, WI\, 53104\, United States
CATEGORIES:Meetings
ATTACH;FMTTYPE=image/png:https://bristolranges.com/wp-content/uploads/2024/03/Bristol-Shooting-Range-1.png
END:VEVENT
END:VCALENDAR