BEGIN:VCALENDAR
VERSION:2.0
PRODID:-//Conservation Club of Kenosha County - ECPv6.15.15//NONSGML v1.0//EN
CALSCALE:GREGORIAN
METHOD:PUBLISH
X-ORIGINAL-URL:https://bristolranges.com
X-WR-CALDESC:Events for Conservation Club of Kenosha County
REFRESH-INTERVAL;VALUE=DURATION:PT1H
X-Robots-Tag:noindex
X-PUBLISHED-TTL:PT1H
BEGIN:VTIMEZONE
TZID:America/Chicago
BEGIN:DAYLIGHT
TZOFFSETFROM:-0600
TZOFFSETTO:-0500
TZNAME:CDT
DTSTART:20230312T080000
END:DAYLIGHT
BEGIN:STANDARD
TZOFFSETFROM:-0500
TZOFFSETTO:-0600
TZNAME:CST
DTSTART:20231105T070000
END:STANDARD
BEGIN:DAYLIGHT
TZOFFSETFROM:-0600
TZOFFSETTO:-0500
TZNAME:CDT
DTSTART:20240310T080000
END:DAYLIGHT
BEGIN:STANDARD
TZOFFSETFROM:-0500
TZOFFSETTO:-0600
TZNAME:CST
DTSTART:20241103T070000
END:STANDARD
BEGIN:DAYLIGHT
TZOFFSETFROM:-0600
TZOFFSETTO:-0500
TZNAME:CDT
DTSTART:20250309T080000
END:DAYLIGHT
BEGIN:STANDARD
TZOFFSETFROM:-0500
TZOFFSETTO:-0600
TZNAME:CST
DTSTART:20251102T070000
END:STANDARD
END:VTIMEZONE
BEGIN:VEVENT
DTSTART;TZID=America/Chicago:20240811T080000
DTEND;TZID=America/Chicago:20240811T170000
DTSTAMP:20260424T091845
CREATED:20240325T125937Z
LAST-MODIFIED:20240325T125937Z
UID:10000053-1723363200-1723395600@bristolranges.com
SUMMARY:NRA High Power Rifle Matches
DESCRIPTION:NRA approved. NRA rules apply and match scores are submitted to the NRA. \n200 yards\, 52 Rounds\, 4 stages / 3 positions (any rifle\, any sights) \nScores will be grouped by rifle style (service I match) & sight type (iron/ glass) \nMatch Fees: Adults $20.00\, Juniors: $10.00
URL:https://bristolranges.com/event/nra-high-power-rifle-matches/2024-08-11/
LOCATION:CCKC Rifle Range\, 21001 85th St\, Bristol\, WI\, 53104\, United States
CATEGORIES:High Power Rifle
ATTACH;FMTTYPE=image/jpeg:https://bristolranges.com/wp-content/uploads/2024/03/Rifle-range-High-Power-2_crop.jpg
END:VEVENT
BEGIN:VEVENT
DTSTART;TZID=America/Chicago:20240804T080000
DTEND;TZID=America/Chicago:20240804T170000
DTSTAMP:20260424T091845
CREATED:20240325T125937Z
LAST-MODIFIED:20240325T125937Z
UID:10000052-1722758400-1722790800@bristolranges.com
SUMMARY:NRA High Power Rifle Matches
DESCRIPTION:NRA approved. NRA rules apply and match scores are submitted to the NRA. \n200 yards\, 52 Rounds\, 4 stages / 3 positions (any rifle\, any sights) \nScores will be grouped by rifle style (service I match) & sight type (iron/ glass) \nMatch Fees: Adults $20.00\, Juniors: $10.00
URL:https://bristolranges.com/event/nra-high-power-rifle-matches/2024-08-04/
LOCATION:CCKC Rifle Range\, 21001 85th St\, Bristol\, WI\, 53104\, United States
CATEGORIES:High Power Rifle
ATTACH;FMTTYPE=image/jpeg:https://bristolranges.com/wp-content/uploads/2024/03/Rifle-range-High-Power-2_crop.jpg
END:VEVENT
BEGIN:VEVENT
DTSTART;TZID=America/Chicago:20240721T080000
DTEND;TZID=America/Chicago:20240721T170000
DTSTAMP:20260424T091845
CREATED:20240325T125937Z
LAST-MODIFIED:20240325T125937Z
UID:10000051-1721548800-1721581200@bristolranges.com
SUMMARY:NRA High Power Rifle Matches
DESCRIPTION:NRA approved. NRA rules apply and match scores are submitted to the NRA. \n200 yards\, 52 Rounds\, 4 stages / 3 positions (any rifle\, any sights) \nScores will be grouped by rifle style (service I match) & sight type (iron/ glass) \nMatch Fees: Adults $20.00\, Juniors: $10.00
URL:https://bristolranges.com/event/nra-high-power-rifle-matches/2024-07-21/
LOCATION:CCKC Rifle Range\, 21001 85th St\, Bristol\, WI\, 53104\, United States
CATEGORIES:High Power Rifle
ATTACH;FMTTYPE=image/jpeg:https://bristolranges.com/wp-content/uploads/2024/03/Rifle-range-High-Power-2_crop.jpg
END:VEVENT
BEGIN:VEVENT
DTSTART;TZID=America/Chicago:20240714T080000
DTEND;TZID=America/Chicago:20240714T170000
DTSTAMP:20260424T091845
CREATED:20240325T130138Z
LAST-MODIFIED:20240325T130156Z
UID:10000071-1720944000-1720976400@bristolranges.com
SUMMARY:Garand Rifle Matches
DESCRIPTION:This is a fun match and is not NRA or CMP sanctioned \nNRA rules apply. 200 yards\, 52 rounds\, 4 Stages and 3 positions. \nMatch Fees: Adults $15.00\, Juniors: $5.00
URL:https://bristolranges.com/event/garand-rifle-matches/2024-07-14/
LOCATION:CCKC Rifle Range\, 21001 85th St\, Bristol\, WI\, 53104\, United States
CATEGORIES:High Power Rifle
ATTACH;FMTTYPE=image/jpeg:https://bristolranges.com/wp-content/uploads/2024/03/Rifle-range-High-Power-2_crop.jpg
END:VEVENT
BEGIN:VEVENT
DTSTART;TZID=America/Chicago:20240615T080000
DTEND;TZID=America/Chicago:20240615T170000
DTSTAMP:20260424T091845
CREATED:20240325T125937Z
LAST-MODIFIED:20240325T125937Z
UID:10000050-1718438400-1718470800@bristolranges.com
SUMMARY:NRA High Power Rifle Matches
DESCRIPTION:NRA approved. NRA rules apply and match scores are submitted to the NRA. \n200 yards\, 52 Rounds\, 4 stages / 3 positions (any rifle\, any sights) \nScores will be grouped by rifle style (service I match) & sight type (iron/ glass) \nMatch Fees: Adults $20.00\, Juniors: $10.00
URL:https://bristolranges.com/event/nra-high-power-rifle-matches/2024-06-15/
LOCATION:CCKC Rifle Range\, 21001 85th St\, Bristol\, WI\, 53104\, United States
CATEGORIES:High Power Rifle
ATTACH;FMTTYPE=image/jpeg:https://bristolranges.com/wp-content/uploads/2024/03/Rifle-range-High-Power-2_crop.jpg
END:VEVENT
BEGIN:VEVENT
DTSTART;TZID=America/Chicago:20240608T080000
DTEND;TZID=America/Chicago:20240608T170000
DTSTAMP:20260424T091845
CREATED:20240325T125937Z
LAST-MODIFIED:20240325T125937Z
UID:10000049-1717833600-1717866000@bristolranges.com
SUMMARY:NRA High Power Rifle Matches
DESCRIPTION:NRA approved. NRA rules apply and match scores are submitted to the NRA. \n200 yards\, 52 Rounds\, 4 stages / 3 positions (any rifle\, any sights) \nScores will be grouped by rifle style (service I match) & sight type (iron/ glass) \nMatch Fees: Adults $20.00\, Juniors: $10.00
URL:https://bristolranges.com/event/nra-high-power-rifle-matches/2024-06-08/
LOCATION:CCKC Rifle Range\, 21001 85th St\, Bristol\, WI\, 53104\, United States
CATEGORIES:High Power Rifle
ATTACH;FMTTYPE=image/jpeg:https://bristolranges.com/wp-content/uploads/2024/03/Rifle-range-High-Power-2_crop.jpg
END:VEVENT
BEGIN:VEVENT
DTSTART;TZID=America/Chicago:20240602T080000
DTEND;TZID=America/Chicago:20240602T170000
DTSTAMP:20260424T091845
CREATED:20240325T130617Z
LAST-MODIFIED:20240325T130617Z
UID:10000078-1717315200-1717347600@bristolranges.com
SUMMARY:Classic Battle Rifle Match
DESCRIPTION:Military rifles from 1917 to 1953 (NO SCOPES). \nThree stages using 200-yard SR5 targets with all shots fired from the prone position. \n10 shots in 7 minutes\, 10 shots in 70 seconds and unlimited shots for 60 seconds. \nMatch Fees: Adults $15.00\, Juniors $5.00
URL:https://bristolranges.com/event/classic-battle-rifle-match/
LOCATION:CCKC Rifle Range\, 21001 85th St\, Bristol\, WI\, 53104\, United States
CATEGORIES:High Power Rifle
ATTACH;FMTTYPE=image/jpeg:https://bristolranges.com/wp-content/uploads/2024/03/Rifle-range-High-Power-2_crop.jpg
END:VEVENT
BEGIN:VEVENT
DTSTART;TZID=America/Chicago:20240519T080000
DTEND;TZID=America/Chicago:20240519T170000
DTSTAMP:20260424T091845
CREATED:20240325T130138Z
LAST-MODIFIED:20240325T130156Z
UID:10000070-1716105600-1716138000@bristolranges.com
SUMMARY:Garand Rifle Matches
DESCRIPTION:This is a fun match and is not NRA or CMP sanctioned \nNRA rules apply. 200 yards\, 52 rounds\, 4 Stages and 3 positions. \nMatch Fees: Adults $15.00\, Juniors: $5.00
URL:https://bristolranges.com/event/garand-rifle-matches/2024-05-19/
LOCATION:CCKC Rifle Range\, 21001 85th St\, Bristol\, WI\, 53104\, United States
CATEGORIES:High Power Rifle
ATTACH;FMTTYPE=image/jpeg:https://bristolranges.com/wp-content/uploads/2024/03/Rifle-range-High-Power-2_crop.jpg
END:VEVENT
BEGIN:VEVENT
DTSTART;TZID=America/Chicago:20240511T080000
DTEND;TZID=America/Chicago:20240511T170000
DTSTAMP:20260424T091845
CREATED:20240325T130315Z
LAST-MODIFIED:20240325T130335Z
UID:10000074-1715414400-1715446800@bristolranges.com
SUMMARY:Mini-Palma Matches (.22 Rimfire Only)
DESCRIPTION:This is a fun match and is not NRA or CMP sanctioned. \nHowever\, NRA rules apply. 100 yards\, prone\, slow fire and 45 rounds for record. \nScores will be grouped by sight type (iron or glass). \nMatch Fees: Adults $15.00\, Juniors: $5.00
URL:https://bristolranges.com/event/mini-palma-matches-22-rimfire-only/2024-05-11/
LOCATION:CCKC Rifle Range\, 21001 85th St\, Bristol\, WI\, 53104\, United States
CATEGORIES:High Power Rifle
ATTACH;FMTTYPE=image/jpeg:https://bristolranges.com/wp-content/uploads/2024/03/Rifle-range-High-Power-2_crop.jpg
END:VEVENT
BEGIN:VEVENT
DTSTART;TZID=America/Chicago:20240505T080000
DTEND;TZID=America/Chicago:20240505T170000
DTSTAMP:20260424T091845
CREATED:20240325T125937Z
LAST-MODIFIED:20240325T125937Z
UID:10000048-1714896000-1714928400@bristolranges.com
SUMMARY:NRA High Power Rifle Matches
DESCRIPTION:NRA approved. NRA rules apply and match scores are submitted to the NRA. \n200 yards\, 52 Rounds\, 4 stages / 3 positions (any rifle\, any sights) \nScores will be grouped by rifle style (service I match) & sight type (iron/ glass) \nMatch Fees: Adults $20.00\, Juniors: $10.00
URL:https://bristolranges.com/event/nra-high-power-rifle-matches/2024-05-05/
LOCATION:CCKC Rifle Range\, 21001 85th St\, Bristol\, WI\, 53104\, United States
CATEGORIES:High Power Rifle
ATTACH;FMTTYPE=image/jpeg:https://bristolranges.com/wp-content/uploads/2024/03/Rifle-range-High-Power-2_crop.jpg
END:VEVENT
BEGIN:VEVENT
DTSTART;TZID=America/Chicago:20240428T080000
DTEND;TZID=America/Chicago:20240428T170000
DTSTAMP:20260424T091845
CREATED:20240325T125937Z
LAST-MODIFIED:20240325T125937Z
UID:10000047-1714291200-1714323600@bristolranges.com
SUMMARY:NRA High Power Rifle Matches
DESCRIPTION:NRA approved. NRA rules apply and match scores are submitted to the NRA. \n200 yards\, 52 Rounds\, 4 stages / 3 positions (any rifle\, any sights) \nScores will be grouped by rifle style (service I match) & sight type (iron/ glass) \nMatch Fees: Adults $20.00\, Juniors: $10.00
URL:https://bristolranges.com/event/nra-high-power-rifle-matches/2024-04-28/
LOCATION:CCKC Rifle Range\, 21001 85th St\, Bristol\, WI\, 53104\, United States
CATEGORIES:High Power Rifle
ATTACH;FMTTYPE=image/jpeg:https://bristolranges.com/wp-content/uploads/2024/03/Rifle-range-High-Power-2_crop.jpg
END:VEVENT
BEGIN:VEVENT
DTSTART;TZID=America/Chicago:20240414T080000
DTEND;TZID=America/Chicago:20240414T170000
DTSTAMP:20260424T091845
CREATED:20240325T125937Z
LAST-MODIFIED:20240325T125937Z
UID:10000046-1713081600-1713114000@bristolranges.com
SUMMARY:NRA High Power Rifle Matches
DESCRIPTION:NRA approved. NRA rules apply and match scores are submitted to the NRA. \n200 yards\, 52 Rounds\, 4 stages / 3 positions (any rifle\, any sights) \nScores will be grouped by rifle style (service I match) & sight type (iron/ glass) \nMatch Fees: Adults $20.00\, Juniors: $10.00
URL:https://bristolranges.com/event/nra-high-power-rifle-matches/2024-04-14/
LOCATION:CCKC Rifle Range\, 21001 85th St\, Bristol\, WI\, 53104\, United States
CATEGORIES:High Power Rifle
ATTACH;FMTTYPE=image/jpeg:https://bristolranges.com/wp-content/uploads/2024/03/Rifle-range-High-Power-2_crop.jpg
END:VEVENT
END:VCALENDAR