BEGIN:VCALENDAR
VERSION:2.0
PRODID:-//Conservation Club of Kenosha County - ECPv6.15.15//NONSGML v1.0//EN
CALSCALE:GREGORIAN
METHOD:PUBLISH
X-WR-CALNAME:Conservation Club of Kenosha County
X-ORIGINAL-URL:https://bristolranges.com
X-WR-CALDESC:Events for Conservation Club of Kenosha County
REFRESH-INTERVAL;VALUE=DURATION:PT1H
X-Robots-Tag:noindex
X-PUBLISHED-TTL:PT1H
BEGIN:VTIMEZONE
TZID:America/Chicago
BEGIN:DAYLIGHT
TZOFFSETFROM:-0600
TZOFFSETTO:-0500
TZNAME:CDT
DTSTART:20230312T080000
END:DAYLIGHT
BEGIN:STANDARD
TZOFFSETFROM:-0500
TZOFFSETTO:-0600
TZNAME:CST
DTSTART:20231105T070000
END:STANDARD
BEGIN:DAYLIGHT
TZOFFSETFROM:-0600
TZOFFSETTO:-0500
TZNAME:CDT
DTSTART:20240310T080000
END:DAYLIGHT
BEGIN:STANDARD
TZOFFSETFROM:-0500
TZOFFSETTO:-0600
TZNAME:CST
DTSTART:20241103T070000
END:STANDARD
BEGIN:DAYLIGHT
TZOFFSETFROM:-0600
TZOFFSETTO:-0500
TZNAME:CDT
DTSTART:20250309T080000
END:DAYLIGHT
BEGIN:STANDARD
TZOFFSETFROM:-0500
TZOFFSETTO:-0600
TZNAME:CST
DTSTART:20251102T070000
END:STANDARD
BEGIN:DAYLIGHT
TZOFFSETFROM:-0600
TZOFFSETTO:-0500
TZNAME:CDT
DTSTART:20260308T080000
END:DAYLIGHT
BEGIN:STANDARD
TZOFFSETFROM:-0500
TZOFFSETTO:-0600
TZNAME:CST
DTSTART:20261101T070000
END:STANDARD
BEGIN:DAYLIGHT
TZOFFSETFROM:-0600
TZOFFSETTO:-0500
TZNAME:CDT
DTSTART:20270314T080000
END:DAYLIGHT
BEGIN:STANDARD
TZOFFSETFROM:-0500
TZOFFSETTO:-0600
TZNAME:CST
DTSTART:20271107T070000
END:STANDARD
END:VTIMEZONE
BEGIN:VEVENT
DTSTART;TZID=America/Chicago:20260412T080000
DTEND;TZID=America/Chicago:20260412T170000
DTSTAMP:20260424T062305
CREATED:20260112T144836Z
LAST-MODIFIED:20260112T151831Z
UID:10000264-1775980800-1776013200@bristolranges.com
SUMMARY:NRA High Power Rifle Matches April 12 2026
DESCRIPTION:NRA approved. NRA rules apply and match scores are submitted to the NRA. \n\n\n\n200 yards\, 52 Rounds\, 4 stages / 3 positions (any rifle\, any sights) \n\n\n\nScores will be grouped by rifle style (service I match) & sight type (iron/ glass) \n\n\n\nMatch Fees: Adults $20.00\, Juniors: $10.00
URL:https://bristolranges.com/event/nra-high-power-rifle-matches-april-12-2026/
LOCATION:CCKC Rifle Range\, 21001 85th St\, Bristol\, WI\, 53104\, United States
CATEGORIES:High Power Rifle
ATTACH;FMTTYPE=image/jpeg:https://bristolranges.com/wp-content/uploads/2024/03/Rifle-range-High-Power-2_crop.jpg
END:VEVENT
BEGIN:VEVENT
DTSTART;TZID=America/Chicago:20251004T080000
DTEND;TZID=America/Chicago:20251004T170000
DTSTAMP:20260424T062305
CREATED:20250320T144320Z
LAST-MODIFIED:20250320T144351Z
UID:10000176-1759564800-1759597200@bristolranges.com
SUMMARY:Military Classic Bolt Action Rifle Match
DESCRIPTION:Military bolt action rifles only. Four stages using 200-yard SR5 targets. \nStage 1-Slow Prone 10 shots in 10 minutes/ Stage 2-Rapid Prone 10 shots in 70 seconds/ \nStage 3-Rapid Sitting 10 shots in 80 seconds/ Stage 4-Offhand 10 shots in 10 minutes. \nMatch Fees: Adults $15.00\, Juniors $5.00
URL:https://bristolranges.com/event/military-classic-bolt-action-rifle-match-2/
LOCATION:CCKC Rifle Range\, 21001 85th St\, Bristol\, WI\, 53104\, United States
CATEGORIES:High Power Rifle
ATTACH;FMTTYPE=image/jpeg:https://bristolranges.com/wp-content/uploads/2024/03/Rifle-range-High-Power-2_crop.jpg
END:VEVENT
BEGIN:VEVENT
DTSTART;TZID=America/Chicago:20250928T080000
DTEND;TZID=America/Chicago:20250928T170000
DTSTAMP:20260424T062305
CREATED:20250319T170342Z
LAST-MODIFIED:20250319T170342Z
UID:10000168-1759046400-1759078800@bristolranges.com
SUMMARY:NRA High Power Rifle Matches September 2025
DESCRIPTION:NRA approved. NRA rules apply and match scores are submitted to the NRA. \n200 yards\, 52 Rounds\, 4 stages / 3 positions (any rifle\, any sights) \nScores will be grouped by rifle style (service I match) & sight type (iron/ glass) \nMatch Fees: Adults $20.00\, Juniors: $10.00
URL:https://bristolranges.com/event/nra-high-power-rifle-matches-september-2025-2/
LOCATION:CCKC Rifle Range\, 21001 85th St\, Bristol\, WI\, 53104\, United States
CATEGORIES:High Power Rifle
ATTACH;FMTTYPE=image/jpeg:https://bristolranges.com/wp-content/uploads/2024/03/Rifle-range-High-Power-2_crop.jpg
END:VEVENT
BEGIN:VEVENT
DTSTART;TZID=America/Chicago:20250921T080000
DTEND;TZID=America/Chicago:20250921T170000
DTSTAMP:20260424T062305
CREATED:20250319T221422Z
LAST-MODIFIED:20250319T221422Z
UID:10000174-1758441600-1758474000@bristolranges.com
SUMMARY:Classic Battle Rifle Match
DESCRIPTION:Military rifles from 1917 to 1953 (NO SCOPES). \nThree stages using 200-yard SR5 targets with all shots fired from the prone position. \n10 shots in 7 minutes\, 10 shots in 70 seconds and unlimited shots for 60 seconds. \nMatch Fees: Adults $15.00\, Juniors $5.00
URL:https://bristolranges.com/event/classic-battle-rifle-match-2/
LOCATION:CCKC Rifle Range\, 21001 85th St\, Bristol\, WI\, 53104\, United States
CATEGORIES:High Power Rifle
ATTACH;FMTTYPE=image/jpeg:https://bristolranges.com/wp-content/uploads/2024/03/Rifle-range-High-Power-2_crop.jpg
END:VEVENT
BEGIN:VEVENT
DTSTART;TZID=America/Chicago:20250914T080000
DTEND;TZID=America/Chicago:20250914T170000
DTSTAMP:20260424T062305
CREATED:20250319T170321Z
LAST-MODIFIED:20250319T170321Z
UID:10000167-1757836800-1757869200@bristolranges.com
SUMMARY:NRA High Power Rifle Matches September 2025
DESCRIPTION:NRA approved. NRA rules apply and match scores are submitted to the NRA. \n200 yards\, 52 Rounds\, 4 stages / 3 positions (any rifle\, any sights) \nScores will be grouped by rifle style (service I match) & sight type (iron/ glass) \nMatch Fees: Adults $20.00\, Juniors: $10.00
URL:https://bristolranges.com/event/nra-high-power-rifle-matches-september-2025/
LOCATION:CCKC Rifle Range\, 21001 85th St\, Bristol\, WI\, 53104\, United States
CATEGORIES:High Power Rifle
ATTACH;FMTTYPE=image/jpeg:https://bristolranges.com/wp-content/uploads/2024/03/Rifle-range-High-Power-2_crop.jpg
END:VEVENT
BEGIN:VEVENT
DTSTART;TZID=America/Chicago:20250816T080000
DTEND;TZID=America/Chicago:20250816T170000
DTSTAMP:20260424T062305
CREATED:20250320T144208Z
LAST-MODIFIED:20250320T144208Z
UID:10000175-1755331200-1755363600@bristolranges.com
SUMMARY:Vintage Sniper Match
DESCRIPTION:Military sniper rifles up to the Korean War. This is a fun match and is not NRA or CMP sanctioned \nNRA rules apply. \nThree stages (200\, 300 and 600 yds) with reduced targets. 40 rounds for record\, 2 optional sighter shots. \nMatch Fees: Adults $15.00\, Juniors $5.00
URL:https://bristolranges.com/event/vintage-sniper-match-2/
LOCATION:CCKC Rifle Range\, 21001 85th St\, Bristol\, WI\, 53104\, United States
CATEGORIES:High Power Rifle
ATTACH;FMTTYPE=image/jpeg:https://bristolranges.com/wp-content/uploads/2024/03/Rifle-range-High-Power-2_crop.jpg
END:VEVENT
BEGIN:VEVENT
DTSTART;TZID=America/Chicago:20250810T080000
DTEND;TZID=America/Chicago:20250810T170000
DTSTAMP:20260424T062305
CREATED:20250319T221331Z
LAST-MODIFIED:20250319T221617Z
UID:10000172-1754812800-1754845200@bristolranges.com
SUMMARY:Mini-Palma Matches (.22 Rimfire Only)
DESCRIPTION:This is a fun match and is not NRA or CMP sanctioned. \nHowever\, NRA rules apply. 100 yards\, prone\, slow fire and 45 rounds for record. \nScores will be grouped by sight type (iron or glass). \nMatch Fees: Adults $15.00\, Juniors: $5.00
URL:https://bristolranges.com/event/mini-palma-matches-22-rimfire-only-2/
LOCATION:CCKC Rifle Range\, 21001 85th St\, Bristol\, WI\, 53104\, United States
CATEGORIES:High Power Rifle
ATTACH;FMTTYPE=image/jpeg:https://bristolranges.com/wp-content/uploads/2024/03/Rifle-range-High-Power-2_crop.jpg
END:VEVENT
BEGIN:VEVENT
DTSTART;TZID=America/Chicago:20250803T080000
DTEND;TZID=America/Chicago:20250803T170000
DTSTAMP:20260424T062305
CREATED:20250319T170236Z
LAST-MODIFIED:20250319T170236Z
UID:10000166-1754208000-1754240400@bristolranges.com
SUMMARY:NRA High Power Rifle Matches August 2025
DESCRIPTION:NRA approved. NRA rules apply and match scores are submitted to the NRA. \n200 yards\, 52 Rounds\, 4 stages / 3 positions (any rifle\, any sights) \nScores will be grouped by rifle style (service I match) & sight type (iron/ glass) \nMatch Fees: Adults $20.00\, Juniors: $10.00
URL:https://bristolranges.com/event/nra-high-power-rifle-matches-august-2025/
LOCATION:CCKC Rifle Range\, 21001 85th St\, Bristol\, WI\, 53104\, United States
CATEGORIES:High Power Rifle
ATTACH;FMTTYPE=image/jpeg:https://bristolranges.com/wp-content/uploads/2024/03/Rifle-range-High-Power-2_crop.jpg
END:VEVENT
BEGIN:VEVENT
DTSTART;TZID=America/Chicago:20250720T080000
DTEND;TZID=America/Chicago:20250720T170000
DTSTAMP:20260424T062305
CREATED:20250319T170158Z
LAST-MODIFIED:20250319T170158Z
UID:10000165-1752998400-1753030800@bristolranges.com
SUMMARY:NRA High Power Rifle Matches July 2025
DESCRIPTION:NRA approved. NRA rules apply and match scores are submitted to the NRA. \n200 yards\, 52 Rounds\, 4 stages / 3 positions (any rifle\, any sights) \nScores will be grouped by rifle style (service I match) & sight type (iron/ glass) \nMatch Fees: Adults $20.00\, Juniors: $10.00
URL:https://bristolranges.com/event/nra-high-power-rifle-matches-july-2025-2/
LOCATION:CCKC Rifle Range\, 21001 85th St\, Bristol\, WI\, 53104\, United States
CATEGORIES:High Power Rifle
ATTACH;FMTTYPE=image/jpeg:https://bristolranges.com/wp-content/uploads/2024/03/Rifle-range-High-Power-2_crop.jpg
END:VEVENT
BEGIN:VEVENT
DTSTART;TZID=America/Chicago:20250712T080000
DTEND;TZID=America/Chicago:20250712T170000
DTSTAMP:20260424T062305
CREATED:20250319T170129Z
LAST-MODIFIED:20250319T170129Z
UID:10000164-1752307200-1752339600@bristolranges.com
SUMMARY:NRA High Power Rifle Matches July 2025
DESCRIPTION:NRA approved. NRA rules apply and match scores are submitted to the NRA. \n200 yards\, 52 Rounds\, 4 stages / 3 positions (any rifle\, any sights) \nScores will be grouped by rifle style (service I match) & sight type (iron/ glass) \nMatch Fees: Adults $20.00\, Juniors: $10.00
URL:https://bristolranges.com/event/nra-high-power-rifle-matches-july-2025/
LOCATION:CCKC Rifle Range\, 21001 85th St\, Bristol\, WI\, 53104\, United States
CATEGORIES:High Power Rifle
ATTACH;FMTTYPE=image/jpeg:https://bristolranges.com/wp-content/uploads/2024/03/Rifle-range-High-Power-2_crop.jpg
END:VEVENT
BEGIN:VEVENT
DTSTART;TZID=America/Chicago:20250629T080000
DTEND;TZID=America/Chicago:20250629T170000
DTSTAMP:20260424T062305
CREATED:20250319T165959Z
LAST-MODIFIED:20250319T165959Z
UID:10000163-1751184000-1751216400@bristolranges.com
SUMMARY:NRA High Power Rifle Matches June 2025
DESCRIPTION:NRA approved. NRA rules apply and match scores are submitted to the NRA. \n200 yards\, 52 Rounds\, 4 stages / 3 positions (any rifle\, any sights) \nScores will be grouped by rifle style (service I match) & sight type (iron/ glass) \nMatch Fees: Adults $20.00\, Juniors: $10.00
URL:https://bristolranges.com/event/nra-high-power-rifle-matches-june-2025-3/
LOCATION:CCKC Rifle Range\, 21001 85th St\, Bristol\, WI\, 53104\, United States
CATEGORIES:High Power Rifle
ATTACH;FMTTYPE=image/jpeg:https://bristolranges.com/wp-content/uploads/2024/03/Rifle-range-High-Power-2_crop.jpg
END:VEVENT
BEGIN:VEVENT
DTSTART;TZID=America/Chicago:20250622T080000
DTEND;TZID=America/Chicago:20250622T170000
DTSTAMP:20260424T062305
CREATED:20250319T165859Z
LAST-MODIFIED:20250319T165859Z
UID:10000162-1750579200-1750611600@bristolranges.com
SUMMARY:NRA High Power Rifle Matches June 2025
DESCRIPTION:NRA approved. NRA rules apply and match scores are submitted to the NRA. \n200 yards\, 52 Rounds\, 4 stages / 3 positions (any rifle\, any sights) \nScores will be grouped by rifle style (service I match) & sight type (iron/ glass) \nMatch Fees: Adults $20.00\, Juniors: $10.00
URL:https://bristolranges.com/event/nra-high-power-rifle-matches-june-2025-2/
LOCATION:CCKC Rifle Range\, 21001 85th St\, Bristol\, WI\, 53104\, United States
CATEGORIES:High Power Rifle
ATTACH;FMTTYPE=image/jpeg:https://bristolranges.com/wp-content/uploads/2024/03/Rifle-range-High-Power-2_crop.jpg
END:VEVENT
BEGIN:VEVENT
DTSTART;TZID=America/Chicago:20250601T080000
DTEND;TZID=America/Chicago:20250601T170000
DTSTAMP:20260424T062305
CREATED:20250319T165822Z
LAST-MODIFIED:20250319T165822Z
UID:10000161-1748764800-1748797200@bristolranges.com
SUMMARY:NRA High Power Rifle Matches June 2025
DESCRIPTION:NRA approved. NRA rules apply and match scores are submitted to the NRA. \n200 yards\, 52 Rounds\, 4 stages / 3 positions (any rifle\, any sights) \nScores will be grouped by rifle style (service I match) & sight type (iron/ glass) \nMatch Fees: Adults $20.00\, Juniors: $10.00
URL:https://bristolranges.com/event/nra-high-power-rifle-matches-june-2025/
LOCATION:CCKC Rifle Range\, 21001 85th St\, Bristol\, WI\, 53104\, United States
CATEGORIES:High Power Rifle
ATTACH;FMTTYPE=image/jpeg:https://bristolranges.com/wp-content/uploads/2024/03/Rifle-range-High-Power-2_crop.jpg
END:VEVENT
BEGIN:VEVENT
DTSTART;TZID=America/Chicago:20250518T080000
DTEND;TZID=America/Chicago:20250518T170000
DTSTAMP:20260424T062305
CREATED:20250319T221236Z
LAST-MODIFIED:20250319T221335Z
UID:10000169-1747555200-1747587600@bristolranges.com
SUMMARY:Garand Rifle Matches
DESCRIPTION:This is a fun match and is not NRA or CMP sanctioned \nNRA rules apply. 200 yards\, 52 rounds\, 4 Stages and 3 positions. \nMatch Fees: Adults $15.00\, Juniors: $5.00
URL:https://bristolranges.com/event/garand-rifle-matches-2/
LOCATION:CCKC Rifle Range\, 21001 85th St\, Bristol\, WI\, 53104\, United States
CATEGORIES:High Power Rifle
ATTACH;FMTTYPE=image/jpeg:https://bristolranges.com/wp-content/uploads/2024/03/Rifle-range-High-Power-2_crop.jpg
END:VEVENT
BEGIN:VEVENT
DTSTART;TZID=America/Chicago:20250504T080000
DTEND;TZID=America/Chicago:20250504T170000
DTSTAMP:20260424T062305
CREATED:20250319T165706Z
LAST-MODIFIED:20250319T165706Z
UID:10000160-1746345600-1746378000@bristolranges.com
SUMMARY:NRA High Power Rifle Matches May 2025
DESCRIPTION:NRA approved. NRA rules apply and match scores are submitted to the NRA. \n200 yards\, 52 Rounds\, 4 stages / 3 positions (any rifle\, any sights) \nScores will be grouped by rifle style (service I match) & sight type (iron/ glass) \nMatch Fees: Adults $20.00\, Juniors: $10.00
URL:https://bristolranges.com/event/nra-high-power-rifle-matches-may-2025/
LOCATION:CCKC Rifle Range\, 21001 85th St\, Bristol\, WI\, 53104\, United States
CATEGORIES:High Power Rifle
ATTACH;FMTTYPE=image/jpeg:https://bristolranges.com/wp-content/uploads/2024/03/Rifle-range-High-Power-2_crop.jpg
END:VEVENT
BEGIN:VEVENT
DTSTART;TZID=America/Chicago:20250413T080000
DTEND;TZID=America/Chicago:20250413T170000
DTSTAMP:20260424T062305
CREATED:20250319T165206Z
LAST-MODIFIED:20260112T151711Z
UID:10000148-1744531200-1744563600@bristolranges.com
SUMMARY:NRA High Power Rifle Matches April 2025
DESCRIPTION:NRA approved. NRA rules apply and match scores are submitted to the NRA.\n\n200 yards\, 52 Rounds\, 4 stages / 3 positions (any rifle\, any sights)\n\nScores will be grouped by rifle style (service I match) & sight type (iron/ glass)\n\nMatch Fees: Adults $20.00\, Juniors: $10.00
URL:https://bristolranges.com/event/nra-high-power-rifle-matches-april-2025/
LOCATION:CCKC Rifle Range\, 21001 85th St\, Bristol\, WI\, 53104\, United States
CATEGORIES:High Power Rifle
ATTACH;FMTTYPE=image/jpeg:https://bristolranges.com/wp-content/uploads/2024/03/Rifle-range-High-Power-2_crop.jpg
END:VEVENT
BEGIN:VEVENT
DTSTART;TZID=America/Chicago:20241012T080000
DTEND;TZID=America/Chicago:20241012T170000
DTSTAMP:20260424T062305
CREATED:20240325T130727Z
LAST-MODIFIED:20240325T130727Z
UID:10000081-1728720000-1728752400@bristolranges.com
SUMMARY:Military Classic Bolt Action Rifle Match
DESCRIPTION:Military bolt action rifles only. Four stages using 200-yard SR5 targets. \nStage 1-Slow Prone 10 shots in 10 minutes/ Stage 2-Rapid Prone 10 shots in 70 seconds/ \nStage 3-Rapid Sitting 10 shots in 80 seconds/ Stage 4-Offhand 10 shots in 10 minutes. \nMatch Fees: Adults $15.00\, Juniors $5.00
URL:https://bristolranges.com/event/military-classic-bolt-action-rifle-match/2024-10-12/
LOCATION:CCKC Rifle Range\, 21001 85th St\, Bristol\, WI\, 53104\, United States
CATEGORIES:High Power Rifle
ATTACH;FMTTYPE=image/jpeg:https://bristolranges.com/wp-content/uploads/2024/03/Rifle-range-High-Power-2_crop.jpg
END:VEVENT
BEGIN:VEVENT
DTSTART;TZID=America/Chicago:20241005T080000
DTEND;TZID=America/Chicago:20241005T170000
DTSTAMP:20260424T062305
CREATED:20240325T125937Z
LAST-MODIFIED:20240325T125937Z
UID:10000057-1728115200-1728147600@bristolranges.com
SUMMARY:NRA High Power Rifle Matches
DESCRIPTION:NRA approved. NRA rules apply and match scores are submitted to the NRA. \n200 yards\, 52 Rounds\, 4 stages / 3 positions (any rifle\, any sights) \nScores will be grouped by rifle style (service I match) & sight type (iron/ glass) \nMatch Fees: Adults $20.00\, Juniors: $10.00
URL:https://bristolranges.com/event/nra-high-power-rifle-matches/2024-10-05/
LOCATION:CCKC Rifle Range\, 21001 85th St\, Bristol\, WI\, 53104\, United States
CATEGORIES:High Power Rifle
ATTACH;FMTTYPE=image/jpeg:https://bristolranges.com/wp-content/uploads/2024/03/Rifle-range-High-Power-2_crop.jpg
END:VEVENT
BEGIN:VEVENT
DTSTART;TZID=America/Chicago:20240929T080000
DTEND;TZID=America/Chicago:20240929T170000
DTSTAMP:20260424T062305
CREATED:20240325T125937Z
LAST-MODIFIED:20240325T125937Z
UID:10000056-1727596800-1727629200@bristolranges.com
SUMMARY:NRA High Power Rifle Matches
DESCRIPTION:NRA approved. NRA rules apply and match scores are submitted to the NRA. \n200 yards\, 52 Rounds\, 4 stages / 3 positions (any rifle\, any sights) \nScores will be grouped by rifle style (service I match) & sight type (iron/ glass) \nMatch Fees: Adults $20.00\, Juniors: $10.00
URL:https://bristolranges.com/event/nra-high-power-rifle-matches/2024-09-29/
LOCATION:CCKC Rifle Range\, 21001 85th St\, Bristol\, WI\, 53104\, United States
CATEGORIES:High Power Rifle
ATTACH;FMTTYPE=image/jpeg:https://bristolranges.com/wp-content/uploads/2024/03/Rifle-range-High-Power-2_crop.jpg
END:VEVENT
BEGIN:VEVENT
DTSTART;TZID=America/Chicago:20240922T080000
DTEND;TZID=America/Chicago:20240922T170000
DTSTAMP:20260424T062305
CREATED:20240325T130727Z
LAST-MODIFIED:20240325T130727Z
UID:10000080-1726992000-1727024400@bristolranges.com
SUMMARY:Military Classic Bolt Action Rifle Match
DESCRIPTION:Military bolt action rifles only. Four stages using 200-yard SR5 targets. \nStage 1-Slow Prone 10 shots in 10 minutes/ Stage 2-Rapid Prone 10 shots in 70 seconds/ \nStage 3-Rapid Sitting 10 shots in 80 seconds/ Stage 4-Offhand 10 shots in 10 minutes. \nMatch Fees: Adults $15.00\, Juniors $5.00
URL:https://bristolranges.com/event/military-classic-bolt-action-rifle-match/2024-09-22/
LOCATION:CCKC Rifle Range\, 21001 85th St\, Bristol\, WI\, 53104\, United States
CATEGORIES:High Power Rifle
ATTACH;FMTTYPE=image/jpeg:https://bristolranges.com/wp-content/uploads/2024/03/Rifle-range-High-Power-2_crop.jpg
END:VEVENT
BEGIN:VEVENT
DTSTART;TZID=America/Chicago:20240914T080000
DTEND;TZID=America/Chicago:20240914T170000
DTSTAMP:20260424T062305
CREATED:20240325T130315Z
LAST-MODIFIED:20240325T130335Z
UID:10000075-1726300800-1726333200@bristolranges.com
SUMMARY:Mini-Palma Matches (.22 Rimfire Only)
DESCRIPTION:This is a fun match and is not NRA or CMP sanctioned. \nHowever\, NRA rules apply. 100 yards\, prone\, slow fire and 45 rounds for record. \nScores will be grouped by sight type (iron or glass). \nMatch Fees: Adults $15.00\, Juniors: $5.00
URL:https://bristolranges.com/event/mini-palma-matches-22-rimfire-only/2024-09-14/
LOCATION:CCKC Rifle Range\, 21001 85th St\, Bristol\, WI\, 53104\, United States
CATEGORIES:High Power Rifle
ATTACH;FMTTYPE=image/jpeg:https://bristolranges.com/wp-content/uploads/2024/03/Rifle-range-High-Power-2_crop.jpg
END:VEVENT
BEGIN:VEVENT
DTSTART;TZID=America/Chicago:20240908T080000
DTEND;TZID=America/Chicago:20240908T170000
DTSTAMP:20260424T062305
CREATED:20240325T125937Z
LAST-MODIFIED:20240325T125937Z
UID:10000055-1725782400-1725814800@bristolranges.com
SUMMARY:NRA High Power Rifle Matches
DESCRIPTION:NRA approved. NRA rules apply and match scores are submitted to the NRA. \n200 yards\, 52 Rounds\, 4 stages / 3 positions (any rifle\, any sights) \nScores will be grouped by rifle style (service I match) & sight type (iron/ glass) \nMatch Fees: Adults $20.00\, Juniors: $10.00
URL:https://bristolranges.com/event/nra-high-power-rifle-matches/2024-09-08/
LOCATION:CCKC Rifle Range\, 21001 85th St\, Bristol\, WI\, 53104\, United States
CATEGORIES:High Power Rifle
ATTACH;FMTTYPE=image/jpeg:https://bristolranges.com/wp-content/uploads/2024/03/Rifle-range-High-Power-2_crop.jpg
END:VEVENT
BEGIN:VEVENT
DTSTART;TZID=America/Chicago:20240825T080000
DTEND;TZID=America/Chicago:20240825T170000
DTSTAMP:20260424T062305
CREATED:20240325T125937Z
LAST-MODIFIED:20240325T125937Z
UID:10000054-1724572800-1724605200@bristolranges.com
SUMMARY:NRA High Power Rifle Matches
DESCRIPTION:NRA approved. NRA rules apply and match scores are submitted to the NRA. \n200 yards\, 52 Rounds\, 4 stages / 3 positions (any rifle\, any sights) \nScores will be grouped by rifle style (service I match) & sight type (iron/ glass) \nMatch Fees: Adults $20.00\, Juniors: $10.00
URL:https://bristolranges.com/event/nra-high-power-rifle-matches/2024-08-25/
LOCATION:CCKC Rifle Range\, 21001 85th St\, Bristol\, WI\, 53104\, United States
CATEGORIES:High Power Rifle
ATTACH;FMTTYPE=image/jpeg:https://bristolranges.com/wp-content/uploads/2024/03/Rifle-range-High-Power-2_crop.jpg
END:VEVENT
BEGIN:VEVENT
DTSTART;TZID=America/Chicago:20240817T080000
DTEND;TZID=America/Chicago:20240817T170000
DTSTAMP:20260424T062305
CREATED:20240325T130511Z
LAST-MODIFIED:20240325T130511Z
UID:10000076-1723881600-1723914000@bristolranges.com
SUMMARY:Vintage Sniper Match
DESCRIPTION:Military sniper rifles up to the Korean War. This is a fun match and is not NRA or CMP sanctioned \nNRA rules apply. \nThree stages (200\, 300 and 600 yds) with reduced targets. 40 rounds for record\, 2 optional sighter shots. \nMatch Fees: Adults $15.00\, Juniors $5.00
URL:https://bristolranges.com/event/vintage-sniper-match/
LOCATION:CCKC Rifle Range\, 21001 85th St\, Bristol\, WI\, 53104\, United States
CATEGORIES:High Power Rifle
ATTACH;FMTTYPE=image/jpeg:https://bristolranges.com/wp-content/uploads/2024/03/Rifle-range-High-Power-2_crop.jpg
END:VEVENT
BEGIN:VEVENT
DTSTART;TZID=America/Chicago:20240811T080000
DTEND;TZID=America/Chicago:20240811T170000
DTSTAMP:20260424T062305
CREATED:20240325T125937Z
LAST-MODIFIED:20240325T125937Z
UID:10000053-1723363200-1723395600@bristolranges.com
SUMMARY:NRA High Power Rifle Matches
DESCRIPTION:NRA approved. NRA rules apply and match scores are submitted to the NRA. \n200 yards\, 52 Rounds\, 4 stages / 3 positions (any rifle\, any sights) \nScores will be grouped by rifle style (service I match) & sight type (iron/ glass) \nMatch Fees: Adults $20.00\, Juniors: $10.00
URL:https://bristolranges.com/event/nra-high-power-rifle-matches/2024-08-11/
LOCATION:CCKC Rifle Range\, 21001 85th St\, Bristol\, WI\, 53104\, United States
CATEGORIES:High Power Rifle
ATTACH;FMTTYPE=image/jpeg:https://bristolranges.com/wp-content/uploads/2024/03/Rifle-range-High-Power-2_crop.jpg
END:VEVENT
BEGIN:VEVENT
DTSTART;TZID=America/Chicago:20240804T080000
DTEND;TZID=America/Chicago:20240804T170000
DTSTAMP:20260424T062305
CREATED:20240325T125937Z
LAST-MODIFIED:20240325T125937Z
UID:10000052-1722758400-1722790800@bristolranges.com
SUMMARY:NRA High Power Rifle Matches
DESCRIPTION:NRA approved. NRA rules apply and match scores are submitted to the NRA. \n200 yards\, 52 Rounds\, 4 stages / 3 positions (any rifle\, any sights) \nScores will be grouped by rifle style (service I match) & sight type (iron/ glass) \nMatch Fees: Adults $20.00\, Juniors: $10.00
URL:https://bristolranges.com/event/nra-high-power-rifle-matches/2024-08-04/
LOCATION:CCKC Rifle Range\, 21001 85th St\, Bristol\, WI\, 53104\, United States
CATEGORIES:High Power Rifle
ATTACH;FMTTYPE=image/jpeg:https://bristolranges.com/wp-content/uploads/2024/03/Rifle-range-High-Power-2_crop.jpg
END:VEVENT
BEGIN:VEVENT
DTSTART;TZID=America/Chicago:20240721T080000
DTEND;TZID=America/Chicago:20240721T170000
DTSTAMP:20260424T062305
CREATED:20240325T125937Z
LAST-MODIFIED:20240325T125937Z
UID:10000051-1721548800-1721581200@bristolranges.com
SUMMARY:NRA High Power Rifle Matches
DESCRIPTION:NRA approved. NRA rules apply and match scores are submitted to the NRA. \n200 yards\, 52 Rounds\, 4 stages / 3 positions (any rifle\, any sights) \nScores will be grouped by rifle style (service I match) & sight type (iron/ glass) \nMatch Fees: Adults $20.00\, Juniors: $10.00
URL:https://bristolranges.com/event/nra-high-power-rifle-matches/2024-07-21/
LOCATION:CCKC Rifle Range\, 21001 85th St\, Bristol\, WI\, 53104\, United States
CATEGORIES:High Power Rifle
ATTACH;FMTTYPE=image/jpeg:https://bristolranges.com/wp-content/uploads/2024/03/Rifle-range-High-Power-2_crop.jpg
END:VEVENT
BEGIN:VEVENT
DTSTART;TZID=America/Chicago:20240714T080000
DTEND;TZID=America/Chicago:20240714T170000
DTSTAMP:20260424T062305
CREATED:20240325T130138Z
LAST-MODIFIED:20240325T130156Z
UID:10000071-1720944000-1720976400@bristolranges.com
SUMMARY:Garand Rifle Matches
DESCRIPTION:This is a fun match and is not NRA or CMP sanctioned \nNRA rules apply. 200 yards\, 52 rounds\, 4 Stages and 3 positions. \nMatch Fees: Adults $15.00\, Juniors: $5.00
URL:https://bristolranges.com/event/garand-rifle-matches/2024-07-14/
LOCATION:CCKC Rifle Range\, 21001 85th St\, Bristol\, WI\, 53104\, United States
CATEGORIES:High Power Rifle
ATTACH;FMTTYPE=image/jpeg:https://bristolranges.com/wp-content/uploads/2024/03/Rifle-range-High-Power-2_crop.jpg
END:VEVENT
BEGIN:VEVENT
DTSTART;TZID=America/Chicago:20240615T080000
DTEND;TZID=America/Chicago:20240615T170000
DTSTAMP:20260424T062305
CREATED:20240325T125937Z
LAST-MODIFIED:20240325T125937Z
UID:10000050-1718438400-1718470800@bristolranges.com
SUMMARY:NRA High Power Rifle Matches
DESCRIPTION:NRA approved. NRA rules apply and match scores are submitted to the NRA. \n200 yards\, 52 Rounds\, 4 stages / 3 positions (any rifle\, any sights) \nScores will be grouped by rifle style (service I match) & sight type (iron/ glass) \nMatch Fees: Adults $20.00\, Juniors: $10.00
URL:https://bristolranges.com/event/nra-high-power-rifle-matches/2024-06-15/
LOCATION:CCKC Rifle Range\, 21001 85th St\, Bristol\, WI\, 53104\, United States
CATEGORIES:High Power Rifle
ATTACH;FMTTYPE=image/jpeg:https://bristolranges.com/wp-content/uploads/2024/03/Rifle-range-High-Power-2_crop.jpg
END:VEVENT
BEGIN:VEVENT
DTSTART;TZID=America/Chicago:20240608T080000
DTEND;TZID=America/Chicago:20240608T170000
DTSTAMP:20260424T062305
CREATED:20240325T125937Z
LAST-MODIFIED:20240325T125937Z
UID:10000049-1717833600-1717866000@bristolranges.com
SUMMARY:NRA High Power Rifle Matches
DESCRIPTION:NRA approved. NRA rules apply and match scores are submitted to the NRA. \n200 yards\, 52 Rounds\, 4 stages / 3 positions (any rifle\, any sights) \nScores will be grouped by rifle style (service I match) & sight type (iron/ glass) \nMatch Fees: Adults $20.00\, Juniors: $10.00
URL:https://bristolranges.com/event/nra-high-power-rifle-matches/2024-06-08/
LOCATION:CCKC Rifle Range\, 21001 85th St\, Bristol\, WI\, 53104\, United States
CATEGORIES:High Power Rifle
ATTACH;FMTTYPE=image/jpeg:https://bristolranges.com/wp-content/uploads/2024/03/Rifle-range-High-Power-2_crop.jpg
END:VEVENT
END:VCALENDAR