BEGIN:VCALENDAR
VERSION:2.0
PRODID:-//Conservation Club of Kenosha County - ECPv6.15.15//NONSGML v1.0//EN
CALSCALE:GREGORIAN
METHOD:PUBLISH
X-ORIGINAL-URL:https://bristolranges.com
X-WR-CALDESC:Events for Conservation Club of Kenosha County
REFRESH-INTERVAL;VALUE=DURATION:PT1H
X-Robots-Tag:noindex
X-PUBLISHED-TTL:PT1H
BEGIN:VTIMEZONE
TZID:America/Chicago
BEGIN:DAYLIGHT
TZOFFSETFROM:-0600
TZOFFSETTO:-0500
TZNAME:CDT
DTSTART:20250309T080000
END:DAYLIGHT
BEGIN:STANDARD
TZOFFSETFROM:-0500
TZOFFSETTO:-0600
TZNAME:CST
DTSTART:20251102T070000
END:STANDARD
BEGIN:DAYLIGHT
TZOFFSETFROM:-0600
TZOFFSETTO:-0500
TZNAME:CDT
DTSTART:20260308T080000
END:DAYLIGHT
BEGIN:STANDARD
TZOFFSETFROM:-0500
TZOFFSETTO:-0600
TZNAME:CST
DTSTART:20261101T070000
END:STANDARD
BEGIN:DAYLIGHT
TZOFFSETFROM:-0600
TZOFFSETTO:-0500
TZNAME:CDT
DTSTART:20270314T080000
END:DAYLIGHT
BEGIN:STANDARD
TZOFFSETFROM:-0500
TZOFFSETTO:-0600
TZNAME:CST
DTSTART:20271107T070000
END:STANDARD
END:VTIMEZONE
BEGIN:VEVENT
DTSTART;TZID=America/Chicago:20260425T180000
DTEND;TZID=America/Chicago:20260425T210000
DTSTAMP:20260423T223536
CREATED:20251211T145340Z
LAST-MODIFIED:20251211T145519Z
UID:10000247-1777140000-1777150800@bristolranges.com
SUMMARY:The Range Officer Dinner Meeting 2026
DESCRIPTION:6pm Drinks \n\n\n\n7pm Dinner \n\n\n\nRO’s can pick work dates\, new volunteers are welcome to come and sign up to be RO’s
URL:https://bristolranges.com/event/the-range-officer-dinner-meeting-2026/
LOCATION:CCKC Clubhouse\, 21001 85th St\, Bristol\, WI\, 53104\, United States
CATEGORIES:Dinner,Meetings
ATTACH;FMTTYPE=image/jpeg:https://bristolranges.com/wp-content/uploads/2024/04/CCKCHP4.jpg
END:VEVENT
END:VCALENDAR