BEGIN:VCALENDAR
VERSION:2.0
PRODID:-//Conservation Club of Kenosha County - ECPv6.15.15//NONSGML v1.0//EN
CALSCALE:GREGORIAN
METHOD:PUBLISH
X-ORIGINAL-URL:https://bristolranges.com
X-WR-CALDESC:Events for Conservation Club of Kenosha County
REFRESH-INTERVAL;VALUE=DURATION:PT1H
X-Robots-Tag:noindex
X-PUBLISHED-TTL:PT1H
BEGIN:VTIMEZONE
TZID:America/Chicago
BEGIN:DAYLIGHT
TZOFFSETFROM:-0600
TZOFFSETTO:-0500
TZNAME:CDT
DTSTART:20240310T080000
END:DAYLIGHT
BEGIN:STANDARD
TZOFFSETFROM:-0500
TZOFFSETTO:-0600
TZNAME:CST
DTSTART:20241103T070000
END:STANDARD
BEGIN:DAYLIGHT
TZOFFSETFROM:-0600
TZOFFSETTO:-0500
TZNAME:CDT
DTSTART:20250309T080000
END:DAYLIGHT
BEGIN:STANDARD
TZOFFSETFROM:-0500
TZOFFSETTO:-0600
TZNAME:CST
DTSTART:20251102T070000
END:STANDARD
BEGIN:DAYLIGHT
TZOFFSETFROM:-0600
TZOFFSETTO:-0500
TZNAME:CDT
DTSTART:20260308T080000
END:DAYLIGHT
BEGIN:STANDARD
TZOFFSETFROM:-0500
TZOFFSETTO:-0600
TZNAME:CST
DTSTART:20261101T070000
END:STANDARD
END:VTIMEZONE
BEGIN:VEVENT
DTSTART;TZID=America/Chicago:20250712T084500
DTEND;TZID=America/Chicago:20250712T120000
DTSTAMP:20260424T033458
CREATED:20250127T200255Z
LAST-MODIFIED:20250127T200348Z
UID:10000119-1752309900-1752321600@bristolranges.com
SUMMARY:Bristol Plains Pistoleros Cowboy Shoot
DESCRIPTION:Try your hand at one of the fastest growing Shooting Sports around. \nThe CCKC proudly sponsors a Cowboy Action Shooting Club. \nThe Bristol Plains Pistoleros is affiliated with the Single Action Shooting Society (SASS). Where else could you be Wyatt Earp at the OK Corral\, Rooster Cogburn in True Grit or many other fascinating historical characters from the Old West?
URL:https://bristolranges.com/event/bristol-plains-pistoleros-cowboy-shoot-2/2025-07-12/
LOCATION:CCKC Skirmish Field\, 21001 85th St\, Bristol\, WI\, 53104\, United States
CATEGORIES:Cowboy
ATTACH;FMTTYPE=image/jpeg:https://bristolranges.com/wp-content/uploads/2024/03/cowboy.jpg
END:VEVENT
BEGIN:VEVENT
DTSTART;TZID=America/Chicago:20250713T084500
DTEND;TZID=America/Chicago:20250713T120000
DTSTAMP:20260424T033458
CREATED:20250127T200255Z
LAST-MODIFIED:20250127T200348Z
UID:10000120-1752396300-1752408000@bristolranges.com
SUMMARY:Bristol Plains Pistoleros Cowboy Shoot
DESCRIPTION:Try your hand at one of the fastest growing Shooting Sports around. \nThe CCKC proudly sponsors a Cowboy Action Shooting Club. \nThe Bristol Plains Pistoleros is affiliated with the Single Action Shooting Society (SASS). Where else could you be Wyatt Earp at the OK Corral\, Rooster Cogburn in True Grit or many other fascinating historical characters from the Old West?
URL:https://bristolranges.com/event/bristol-plains-pistoleros-cowboy-shoot-2/2025-07-13/
LOCATION:CCKC Skirmish Field\, 21001 85th St\, Bristol\, WI\, 53104\, United States
CATEGORIES:Cowboy
ATTACH;FMTTYPE=image/jpeg:https://bristolranges.com/wp-content/uploads/2024/03/cowboy.jpg
END:VEVENT
BEGIN:VEVENT
DTSTART;VALUE=DATE:20250719
DTEND;VALUE=DATE:20250720
DTSTAMP:20260424T033458
CREATED:20250127T195747Z
LAST-MODIFIED:20250127T195831Z
UID:10000093-1752883200-1752969599@bristolranges.com
SUMMARY:Civil War All Day Shoot
DESCRIPTION:
URL:https://bristolranges.com/event/civil-war-all-day-shoot-2/2025-07-19/
LOCATION:CCKC Skirmish Field\, 21001 85th St\, Bristol\, WI\, 53104\, United States
CATEGORIES:Cowboy
ATTACH;FMTTYPE=image/jpeg:https://bristolranges.com/wp-content/uploads/2024/03/cowboy-p3rs.jpg
END:VEVENT
BEGIN:VEVENT
DTSTART;VALUE=DATE:20250720
DTEND;VALUE=DATE:20250721
DTSTAMP:20260424T033458
CREATED:20250127T195747Z
LAST-MODIFIED:20250127T195831Z
UID:10000094-1752998400-1753030800@bristolranges.com
SUMMARY:Civil War All Day Shoot
DESCRIPTION:
URL:https://bristolranges.com/event/civil-war-all-day-shoot-2/2025-07-20/
LOCATION:CCKC Skirmish Field\, 21001 85th St\, Bristol\, WI\, 53104\, United States
CATEGORIES:Cowboy
ATTACH;FMTTYPE=image/jpeg:https://bristolranges.com/wp-content/uploads/2024/03/cowboy-p3rs.jpg
END:VEVENT
END:VCALENDAR