BEGIN:VCALENDAR
VERSION:2.0
PRODID:-//Conservation Club of Kenosha County - ECPv6.15.15//NONSGML v1.0//EN
CALSCALE:GREGORIAN
METHOD:PUBLISH
X-ORIGINAL-URL:https://bristolranges.com
X-WR-CALDESC:Events for Conservation Club of Kenosha County
REFRESH-INTERVAL;VALUE=DURATION:PT1H
X-Robots-Tag:noindex
X-PUBLISHED-TTL:PT1H
BEGIN:VTIMEZONE
TZID:America/Chicago
BEGIN:DAYLIGHT
TZOFFSETFROM:-0600
TZOFFSETTO:-0500
TZNAME:CDT
DTSTART:20250309T080000
END:DAYLIGHT
BEGIN:STANDARD
TZOFFSETFROM:-0500
TZOFFSETTO:-0600
TZNAME:CST
DTSTART:20251102T070000
END:STANDARD
BEGIN:DAYLIGHT
TZOFFSETFROM:-0600
TZOFFSETTO:-0500
TZNAME:CDT
DTSTART:20260308T080000
END:DAYLIGHT
BEGIN:STANDARD
TZOFFSETFROM:-0500
TZOFFSETTO:-0600
TZNAME:CST
DTSTART:20261101T070000
END:STANDARD
BEGIN:DAYLIGHT
TZOFFSETFROM:-0600
TZOFFSETTO:-0500
TZNAME:CDT
DTSTART:20270314T080000
END:DAYLIGHT
BEGIN:STANDARD
TZOFFSETFROM:-0500
TZOFFSETTO:-0600
TZNAME:CST
DTSTART:20271107T070000
END:STANDARD
END:VTIMEZONE
BEGIN:VEVENT
DTSTART;TZID=America/Chicago:20260104T120000
DTEND;TZID=America/Chicago:20260104T130000
DTSTAMP:20260424T074016
CREATED:20251119T164831Z
LAST-MODIFIED:20251202T192540Z
UID:10000246-1767528000-1767531600@bristolranges.com
SUMMARY:Shooters Meeting 2026 Winter Archery 3D League
DESCRIPTION:32 30 targets that will be set up anywhere from 2 yards to 33 yards away. Juniors will only shoot at targets under 20 yards. There are 8 shooting stations. Compound\, recurve\, and longbows welcome.Sorry\, no crossbows. \n\n\n\n \n\n\n\n\n\n\n\n\n\n\n\n\n\n\n\n\n\n\n\n\n2026\, Archery\, Archery 3D League\, Winter Archery
URL:https://bristolranges.com/event/shooters-meeting-2026-winter-archery-3d-league/
CATEGORIES:2026,Archery,Archery 3D League,Winter Archery
ATTACH;FMTTYPE=image/jpeg:https://bristolranges.com/wp-content/uploads/2025/11/2026-3d-League-Archery-scaled.jpg
END:VEVENT
END:VCALENDAR