BEGIN:VCALENDAR
VERSION:2.0
PRODID:-//Conservation Club of Kenosha County - ECPv6.15.15//NONSGML v1.0//EN
CALSCALE:GREGORIAN
METHOD:PUBLISH
X-ORIGINAL-URL:https://bristolranges.com
X-WR-CALDESC:Events for Conservation Club of Kenosha County
REFRESH-INTERVAL;VALUE=DURATION:PT1H
X-Robots-Tag:noindex
X-PUBLISHED-TTL:PT1H
BEGIN:VTIMEZONE
TZID:America/Chicago
BEGIN:DAYLIGHT
TZOFFSETFROM:-0600
TZOFFSETTO:-0500
TZNAME:CDT
DTSTART:20250309T080000
END:DAYLIGHT
BEGIN:STANDARD
TZOFFSETFROM:-0500
TZOFFSETTO:-0600
TZNAME:CST
DTSTART:20251102T070000
END:STANDARD
BEGIN:DAYLIGHT
TZOFFSETFROM:-0600
TZOFFSETTO:-0500
TZNAME:CDT
DTSTART:20260308T080000
END:DAYLIGHT
BEGIN:STANDARD
TZOFFSETFROM:-0500
TZOFFSETTO:-0600
TZNAME:CST
DTSTART:20261101T070000
END:STANDARD
BEGIN:DAYLIGHT
TZOFFSETFROM:-0600
TZOFFSETTO:-0500
TZNAME:CDT
DTSTART:20270314T080000
END:DAYLIGHT
BEGIN:STANDARD
TZOFFSETFROM:-0500
TZOFFSETTO:-0600
TZNAME:CST
DTSTART:20271107T070000
END:STANDARD
END:VTIMEZONE
BEGIN:VEVENT
DTSTART;TZID=America/Chicago:20260429T180000
DTEND;TZID=America/Chicago:20260429T210000
DTSTAMP:20260423T064141
CREATED:20260112T130754Z
LAST-MODIFIED:20260112T131325Z
UID:10000249-1777485600-1777496400@bristolranges.com
SUMMARY:Action Pistol Match April 2026
DESCRIPTION:If you would like to learn how to shoot in competition\, please join us for an exciting 2025 Action Pistol season. We draw a wide range of competitors\, from beginners to seasoned veterans and everyone has a good time. \n\n\n\nOur matches begin at 6:00 PM at the CCKC Rifle Range. NOTE: Registration will close at 6:15PM for safety reasons – you must attend the walkthrough to shoot. \n\n\n\nEach match is an individual competition so join us for whichever match date you can make. The only person you are competing against is yourself. \n\n\n\n\n\n\n\n\n\n\nThe match fees are $15 for CCKC members and $20 for non-members. \n\n\n\nWe run about 4 stages a night and all matches are on WEDNESDAY EVENINGS. \n\n\n\nThe Action Pistol matches are an introduction to the sport of USPSA competitive shooting. \n\n\n\nWe follow safe gun handling principles to help you improve your handgun skills. You will shoot timed match scenarios that require you to move and engage a wide range of reactive and static targets. \n\n\n\nMost participants shoot stock factory semi-auto handguns or pistol caliber rifle. \n\n\n\nPlease bring a small firearm case\, belt holster\, four magazines\, and a minimum of 100 rounds of ammunition (no magnum loads). \n\n\n\nFrom May through September the first match of the month will be .22LR neutral – meaning you can break out your .22 pistol or rifle and shoot the entire match.
URL:https://bristolranges.com/event/action-pistol-match-april-2026/
LOCATION:CCKC Rifle Range\, 21001 85th St\, Bristol\, WI\, 53104\, United States
CATEGORIES:Action Pistol
ATTACH;FMTTYPE=image/jpeg:https://bristolranges.com/wp-content/uploads/2024/03/action-pistol-range.jpg
END:VEVENT
END:VCALENDAR